BEGIN:VCALENDAR
VERSION:2.0
PRODID:-//ChamberMaster//Event Calendar 2.0//EN
METHOD:PUBLISH
X-PUBLISHED-TTL:P3D
REFRESH-INTERVAL:P3D
CALSCALE:GREGORIAN
BEGIN:VEVENT
DTSTART:20210210T230000Z
DTEND:20210211T000000Z
X-MICROSOFT-CDO-ALLDAYEVENT:FALSE
SUMMARY:10 Warning Signs of Alzheimer’s with LaGrange Library
DESCRIPTION:Alzheimer's and other dementias cause changes in memory\, thinking and behavior that interfere with daily life. Join us to learn about 10 common warning signs and what to watch for in yourself and others. This free virtual program by the Alzheimer's Association Hudson Valley Chapter explores typical age-related changes\, common warning signs of Alzheimer's\, how to approach someone about memory concerns\; early detection\, the benefits of a diagnosis and the diagnostic process and Alzheimer's Association resources. To register\, call 800.272.3900.
X-ALT-DESC;FMTTYPE=text/html:<span style="font-size:14px"><span style="color:rgb(34\, 34\, 34)">Alzheimer&rsquo\;s and other dementias cause changes in memory\, thinking and behavior that interfere with daily life. Join us to learn about 10 common warning signs and what to watch for in yourself and others. This free virtual program by the Alzheimer&rsquo\;s Association</span><span style="color:rgb(255\, 0\, 0)">&nbsp\;</span><span style="color:#000000">Hudson Valley Chapter&nbsp\;</span><span style="color:rgb(34\, 34\, 34)">explores typical age-related changes\, common warning signs of Alzheimer&rsquo\;s\, how to approach someone about memory concerns\; early detection\, the benefits of a diagnosis and the diagnostic process and Alzheimer&rsquo\;s Association resources. To register\, call </span><span style="color:rgb(17\, 85\, 204)">800.272.3900</span><span style="color:rgb(34\, 34\, 34)">. </span></span>
LOCATION:Virtually with LaGrange Library
UID:e.2770.10484954
SEQUENCE:3
DTSTAMP:20260421T161505Z
URL:https://business.dcrcoc.org/events/details/10-warning-signs-of-alzheimer-s-with-lagrange-library-10484954
END:VEVENT

END:VCALENDAR
