BEGIN:VCALENDAR
VERSION:2.0
PRODID:-//ChamberMaster//Event Calendar 2.0//EN
METHOD:PUBLISH
X-PUBLISHED-TTL:P3D
REFRESH-INTERVAL:P3D
CALSCALE:GREGORIAN
BEGIN:VEVENT
DTSTART:20190908T130000Z
DTEND:20190908T160000Z
X-MICROSOFT-CDO-ALLDAYEVENT:FALSE
SUMMARY:10th Annual Prostate Cancer Walk
DESCRIPTION:Join us for our 9th Annual Prostate Cancer Walk to spread awareness and support and honor local men that have been diagnosed with Prostate Cancer. Money raised by the walk supports local patients and prostate programs to offer free screenings and other supportive services. Come walk in honor or in memory of a loved one!
X-ALT-DESC;FMTTYPE=text/html:Join us for our 9th Annual Prostate Cancer Walk to spread awareness and support and honor local men that have been diagnosed with Prostate Cancer. Money raised by the walk supports local patients and prostate programs to offer free screenings and other supportive services. Come walk in honor or in memory of a loved one!
LOCATION:Walkway Over the Hudson (Highland side)
UID:e.2770.10480950
SEQUENCE:3
DTSTAMP:20260422T220859Z
URL:https://business.dcrcoc.org/events/details/10th-annual-prostate-cancer-walk-10480950
END:VEVENT

END:VCALENDAR
