BEGIN:VCALENDAR
VERSION:2.0
PRODID:-//ChamberMaster//Event Calendar 2.0//EN
METHOD:PUBLISH
X-PUBLISHED-TTL:P3D
REFRESH-INTERVAL:P3D
CALSCALE:GREGORIAN
BEGIN:VEVENT
DTSTART:20180509T220000Z
DTEND:20180510T020000Z
X-MICROSOFT-CDO-ALLDAYEVENT:FALSE
SUMMARY:11th Annual Excellence in Nursing
DESCRIPTION:Hudson Valley Magazine presents its annual Excellence in Nursing Awards\, held during National Nurses Week. This elegant evening honors local nurses who have gone above and beyond the call of duty\, as voted by a panel of judges. The Top 20 nurses are also profiled in the May issue of Hudson Valley Magazine.
X-ALT-DESC;FMTTYPE=text/html:Hudson Valley Magazine presents its annual Excellence in Nursing Awards\, held during National Nurses Week. This elegant evening honors local nurses who have gone above and beyond the call of duty\, as voted by a panel of judges. The Top 20 nurses are also profiled in the May issue of Hudson Valley Magazine.
LOCATION:The Grandview - 176 Rinaldi Blvd. Poughkeepsie NY\, 12601
UID:e.2770.10476851
SEQUENCE:3
DTSTAMP:20260425T181828Z
URL:https://business.dcrcoc.org/events/details/11th-annual-excellence-in-nursing-10476851
END:VEVENT

END:VCALENDAR
