BEGIN:VCALENDAR
VERSION:2.0
PRODID:-//ChamberMaster//Event Calendar 2.0//EN
METHOD:PUBLISH
X-PUBLISHED-TTL:P3D
REFRESH-INTERVAL:P3D
CALSCALE:GREGORIAN
BEGIN:VEVENT
DTSTART:20190614T123000Z
DTEND:20190614T190000Z
X-MICROSOFT-CDO-ALLDAYEVENT:FALSE
SUMMARY:11th Annual Hudson Valley World Elder Abuse Awareness Day Conference
DESCRIPTION:Dear Friends and Colleagues\,\n\n\n\nEverCare at Home is proud to announce that a free conference highlighting the 11th Annual Hudson Valley World Elder Abuse Awareness Day will take place on Friday\, June 14th at Dutchess Community College (53 Pendell Road\, Poughkeepsie\, NY). The conference is being organized by EverCare at Home and the World Elder Abuse Awareness Committee\, in cooperation with the Dutchess County Office for the Aging\, Dutchess County Adult Protective Service\, and the Dutchess County Government. The conference is open to the entire Hudson Valley Region.\n\nAs our elderly population increases\, elder abuse and other crimes against older persons are also on the rise. It is critical to know how to recognize elder abuse and how to get help if you are a victim or you suspect someone you know is being abused. A recent study of elder abuse prevalence in New York State found that 76 out of every 1\,000 older New Yorkers are victims of elder abuse each year. The reported incidence rate is nearly 24 times greater than the number of referred cases. This suggests that many elders are not seeking\, or getting the assistance they need. Last year's conference was a great success\, with over 500 in attendance. This year\, we expect again to welcome a great turnout of community members\, elected officials\, and professionals to the conference.\n\nWe invite you to join as a conference registrant\, sponsor or charitable contributor and take action against elder abuse. We also ask that you share the event details on your social media outlets and websites to help spread the word about this important event. \n\nThe net proceeds from this conference will be used by EverCare at Home to further education and awareness of elder abuse throughout our region.\n\nRespectfully\,\n\nDana Pavelock\n\nVice President of Development | 845.728.5722 | WEAAD2019@evercare.org
X-ALT-DESC;FMTTYPE=text/html:<p>Dear Friends and Colleagues\,<br />\n<br />\nEverCare at Home is proud to announce that a free conference highlighting the 11th Annual Hudson Valley World Elder Abuse&nbsp\;Awareness Day will take place on Friday\, June 14th at Dutchess Community College (53 Pendell Road\, Poughkeepsie\, NY).&nbsp\;The conference is being organized by EverCare at Home and the World Elder Abuse Awareness Committee\, in cooperation&nbsp\;with the Dutchess County Office for the Aging\, Dutchess County Adult Protective Service\, and the Dutchess County&nbsp\;Government. The conference is open to the entire Hudson Valley Region.</p>\n\n<p>As our elderly population increases\, elder abuse and other crimes against older persons are also on the rise. It is critical to&nbsp\;know how to recognize elder abuse and how to get help if you are a victim or you suspect someone you know is being&nbsp\;abused. A recent study of elder abuse prevalence in New York State found that 76 out of every 1\,000 older New Yorkers&nbsp\;are victims of elder abuse each year. The reported incidence rate is nearly 24 times greater than the number of referred&nbsp\;cases. This suggests that many elders are not seeking\, or getting the assistance they need.&nbsp\;Last year&rsquo\;s conference was a great success\, with over 500 in attendance. This year\, we expect again to welcome a great&nbsp\;turnout of community members\, elected officials\, and professionals to the conference.</p>\n\n<p>We invite you to join as a conference registrant\, sponsor or charitable contributor and take action against elder abuse.&nbsp\;We also ask that you share the event details on your social media outlets and websites to&nbsp\;help spread the word about this important event.&nbsp\;</p>\n\n<p>The net proceeds from this conference will be used by EverCare at Home to further education and awareness of elder&nbsp\;abuse throughout our region.</p>\n\n<p>Respectfully\,<br />\nDana Pavelock<br />\nVice President of Development | 845.728.5722 | WEAAD2019@evercare.org</p>\n
LOCATION:Dutchess Community College 53 Pendell Road\, Poughkeepsie\, NY Parking Lot D
UID:e.2770.10480509
SEQUENCE:3
DTSTAMP:20260423T025314Z
URL:https://business.dcrcoc.org/events/details/11th-annual-hudson-valley-world-elder-abuse-awareness-day-conference-10480509
END:VEVENT

END:VCALENDAR
