BEGIN:VCALENDAR
VERSION:2.0
PRODID:-//ChamberMaster//Event Calendar 2.0//EN
METHOD:PUBLISH
X-PUBLISHED-TTL:P3D
REFRESH-INTERVAL:P3D
CALSCALE:GREGORIAN
BEGIN:VEVENT
DTSTART:20180426T213000Z
DTEND:20180426T233000Z
X-MICROSOFT-CDO-ALLDAYEVENT:FALSE
SUMMARY:12th Annual Magnolia Party
DESCRIPTION:The Cunneen-Hackett Arts Center\, a 501(c)3 nonprofit arts organization holds its 12th Annual Magnolia Party on Thursday April 26\, 2018 at 5:30 pm.  This event commemorates the historic magnolia tree which still stands in front of the Arts Center where Matthew Vassar cut a flowering stem and placed it on Abraham Lincoln's coffin as his funeral train passed through Poughkeepsie on its way to Springfield\, IL for burial in 1865.  This annual signature party is a fabulous fundraiser supporting the ongoing preservation and maintenance of the two historic\, landmark Victorian structures that house the Cunneen-Hackett Arts Center located at 9 & 12 Vassar Street in Poughkeepsie\, NY.
X-ALT-DESC;FMTTYPE=text/html:<strong abp="2732"><span abp="2733" style="font-size:14pt"><span abp="2734" style="font-family:times new roman">The Cunneen-Hackett Arts Center\, a 501(c)3 nonprofit arts organization holds its 12<sup abp="2735">th</sup> Annual Magnolia Party on Thursday April 26\, 2018 at 5:30 pm.&nbsp\; This event commemorates the historic magnolia tree which still stands in front of the Arts Center where Matthew Vassar cut a flowering stem and placed it on Abraham Lincoln&rsquo\;s coffin as his funeral train passed through Poughkeepsie on its way to Springfield\, IL for burial in 1865.&nbsp\; This annual signature party is a fabulous fundraiser supporting the ongoing preservation and maintenance of the two historic\, landmark Victorian structures that house the Cunneen-Hackett Arts Center located at 9 &amp\; 12 Vassar Street in Poughkeepsie\, NY.</span></span></strong><br abp="2736" />\n&nbsp\;
LOCATION:9 Vassar Street Poughkeepsie\, NY 12601
UID:e.2770.10476804
SEQUENCE:3
DTSTAMP:20260425T195018Z
URL:https://business.dcrcoc.org/events/details/12th-annual-magnolia-party-10476804
END:VEVENT

END:VCALENDAR
