BEGIN:VCALENDAR
VERSION:2.0
PRODID:-//ChamberMaster//Event Calendar 2.0//EN
METHOD:PUBLISH
X-PUBLISHED-TTL:P3D
REFRESH-INTERVAL:P3D
CALSCALE:GREGORIAN
BEGIN:VEVENT
DTSTART:20210128T170000Z
DTEND:20210128T183000Z
X-MICROSOFT-CDO-ALLDAYEVENT:FALSE
SUMMARY:14th Annual ATHENA Awards Virtual Ceremony
DESCRIPTION:The ATHENA Awards reception will recognize honorees' accomplishments in their careers\, community volunteer involvement\, and willingness to serve as a mentor especially to women in the business community.\n\n\n\nTo Register\, Click Here\n                 \n\n                  Honorees\n\nElizabeth Donohue - Marist College\n\nEllen Gambino\, EdD - Dutchess Community College\n\nTheresa Giovanniello - Dutchess County Department of Community and Family Services\n\nDonna Johnson-Klonsky - DJ Consulting Services\, Inc.\n\nCammie Jones - Bard College\n\nCrys McCuin - The Arc Greater Hudson Valley\n\nMecca Mitchell\, Esq. - WMC Health Network\n\nLauree Ostrofsky - Simply Leap\, LLC / HVWiB\n\nKate Rabe - Hudson Valley Credit Union\n\n\n\n                        Sponsors\n\n\n\nGold\n\nKeyBank\n\nMidHudson Regional Hospital/WMC Health\n\n\n\nSilver\n\nDCH Wappingers Falls Toyota\n\nDutchess Community College and Dutchess Community College Foundation\n\nHudson Valley Credit Union\n\nRose & Kiernan\, Inc. /NFP\n\nTompkins Mahopac Bank\n\n\n\nBronze\n\nMackey Butts & Wise\, LLP\n\nMobile Life Support Services\, Inc.\n\nMount Saint Mary College\n\nPVE\, LLC\n\nRBT CPAs\, LLP\n\nRoyal Carting Service Company\n\n\n\n\n\nSpecial Thanks to Forge Media at The Art Effect
X-ALT-DESC;FMTTYPE=text/html:&nbsp\;\n<div style="font-size: 16px\;"><span style="font-family:tahoma\;"><span style="font-size:18px\;"><span style="font-family:times new roman\;"><span style="color:#000000\;">The ATHENA Awards reception will recognize honorees&#39\;&nbsp\;accomplishments in their careers\, community volunteer involvement\, and willingness to serve as a mentor especially to women in the business community.<br />\n<br />\nTo Register\, Click</span><span style="color:#000000\;"><span style="font-family:tahoma\;"><span style="font-size:18px\;"><span style="font-family:times new roman\;"> </span></span></span></span><strong><a href="https://dcrcoc-org.zoom.us/webinar/register/WN_qnoai7H4S-WIp4huVo4fGw" target="_blank"><span style="color:#0000FF\;">Here</span></a></strong></span></span></span>\n<p>&nbsp\;&nbsp\;&nbsp\;&nbsp\;&nbsp\;&nbsp\;&nbsp\;&nbsp\;&nbsp\;&nbsp\;&nbsp\;&nbsp\;&nbsp\;&nbsp\;&nbsp\;&nbsp\;&nbsp\;<br />\n&nbsp\; &nbsp\; &nbsp\; &nbsp\; &nbsp\; &nbsp\; &nbsp\; &nbsp\;&nbsp\;&nbsp\;&nbsp\;<u><span style="color:#000000\;"><span style="font-family:tahoma\;"><span style="font-size:18px\;"><span style="font-family:times new roman\;"><em><span style="font-size:20px\;">Honorees</span></em></span></span></span></span></u></p>\n</div>\n<span style="color:#000000\;"><span style="font-family:times new roman\,serif\;"><span style="font-size:14.0pt\;"><strong>Elizabeth Donohue</strong> - <span style="font-size:16px\;"><em>Marist College</em></span></span></span><br />\n<span style="font-family:times new roman\,serif\;"><span style="font-size:14.0pt\;"><strong>Ellen Gambino\, EdD</strong> - <span style="font-size:16px\;"><em>Dutchess Community College</em></span></span></span><br />\n<span style="font-family:times new roman\,serif\;"><span style="font-size:14.0pt\;"><strong>Theresa Giovanniello</strong> - <span style="font-size:16px\;"><em>Dutchess County Department of Community and Family Services</em></span></span></span><br />\n<span style="font-family:times new roman\,serif\;"><span style="font-size:14.0pt\;"><strong>Donna Johnson-Klonsky</strong> - <span style="font-size:16px\;"><em>DJ Consulting Services\, Inc.</em></span></span></span><br />\n<span style="font-family:times new roman\,serif\;"><span style="font-size:14.0pt\;"><strong>Cammie Jones</strong> - <span style="font-size:16px\;"><em>Bard College</em></span></span></span><br />\n<span style="font-family:times new roman\,serif\;"><span style="font-size:14.0pt\;"><strong>Crys McCuin</strong>&nbsp\;- <span style="font-size:16px\;"><em>The Arc Greater Hudson Valley</em></span></span></span><br />\n<span style="font-family:times new roman\,serif\;"><span style="font-size:14.0pt\;"><strong>Mecca Mitchell\, Esq.</strong> - <span style="font-size:16px\;"><em>WMC Health Network</em></span></span></span><br />\n<span style="font-family:times new roman\,serif\;"><span style="font-size:14.0pt\;"><strong>Lauree Ostrofsky</strong> - <span style="font-size:16px\;"><em>Simply Leap\, LLC / HVWiB</em></span></span></span><br />\n<span style="font-family:times new roman\,serif\;"><span style="font-size:14.0pt\;"><strong>Kate Rabe</strong> - <span style="font-size:16px\;"><em>Hudson Valley Credit Union</em></span></span></span></span><br />\n<br />\n&nbsp\;&nbsp\;&nbsp\;&nbsp\;&nbsp\;&nbsp\;&nbsp\;&nbsp\;&nbsp\;&nbsp\;&nbsp\;&nbsp\;&nbsp\;&nbsp\;&nbsp\;&nbsp\;&nbsp\;&nbsp\;&nbsp\;&nbsp\;&nbsp\;&nbsp\;&nbsp\;&nbsp\;<span style="color:#000000\;"><u><span style="font-size:16px\;"><span style="font-family:tahoma\;"><span style="font-size:18px\;"><span style="font-family:times new roman\;"><em><span style="font-size:20px\;">Sponsors</span></em></span></span></span></span></u><br />\n<br />\n<span style="font-size:18px\;"><span style="font-family:times new roman\;"><strong>Gold</strong></span></span></span><br />\n<span style="font-size:18px\;"><span style="font-family:times new roman\;"><a href="https://www.key.com/personal/index.jsp" target="_blank"><span style="color:#0000FF\;">KeyBank</span></a></span></span><br />\n<span style="font-size:18px\;"><span style="font-family:times new roman\;"><a href="http://www.midhudsonregional.org/" target="_blank"><span style="color:#0000FF\;">MidHudson Regional Hospital</span></a></span></span><a href="https://www.westchestermedicalcenter.org/" target="_blank"><span style="color:#0000FF\;"><span style="font-size:18px\;"><span style="font-family:times new roman\;">/WMC Health</span></span></span></a><br />\n<br />\n<span style="color:#000000\;"><span style="font-size:18px\;"><span style="font-family:times new roman\;"><strong>Silver</strong></span></span></span><br />\n<a href="https://www.dchwappingerstoyota.com/?utm_source=google&amp\;utm_medium=organic&amp\;utm_campaign=googlemybusiness" style="font-family: &quot\;times new roman&quot\;\; font-size: 18px\;" target="_blank"><span style="color: rgb(0\, 0\, 255)\;">DCH Wappingers Falls Toyota</span></a><br />\n<a href="https://www.sunydutchess.edu/" target="_blank"><span style="color:#0000FF\;"><span style="font-size:18px\;"><span style="font-family:times new roman\;">Dutchess Community College and Dutchess Community College Foundation</span></span></span></a><br />\n<span style="font-size:18px\;"><span style="font-family:times new roman\;"><a href="https://www.hvcu.org/" target="_blank"><span style="color:#0000FF\;">Hudson Valley Credit Union</span></a></span></span><br />\n<a href="https://www.rkinsurance.com/" style="font-family: &quot\;times new roman&quot\;\; font-size: 18px\;" target="_blank"><span style="color: rgb(0\, 0\, 255)\;">Rose &amp\; Kiernan\, Inc.</span></a><span style="font-family: &quot\;times new roman&quot\;\; font-size: 18px\; color: rgb(0\, 0\, 255)\;">&nbsp\;/</span><a href="https://www.nfp.com/" style="font-family: &quot\;times new roman&quot\;\; font-size: 18px\;" target="_blank"><span style="color: rgb(0\, 0\, 255)\;">NFP</span></a><br />\n<span style="font-size:18px\;"><span style="font-family:times new roman\;"><a href="https://www.mahopacbank.com/" target="_blank"><span style="color:#0000FF\;">Tompkins Mahopac Bank</span></a></span></span><br />\n<br />\n<span style="color:#000000\;"><span style="font-size:18px\;"><span style="font-family:times new roman\;"><strong>Bronze</strong></span></span></span><br />\n<a href="https://mbwise.com/" style="font-family: &quot\;times new roman&quot\;\; font-size: 18px\;" target="_blank"><span style="color: rgb(0\, 0\, 255)\;">Mackey Butts &amp\; Wise\, LLP</span></a><br />\n<span style="font-size:18px\;"><span style="font-family:times new roman\;"><a href="http://www.mobilelife.com/" target="_blank"><span style="color:#0000FF\;">Mobile Life Support Services\, Inc.</span></a></span></span><br />\n<a href="https://www.msmc.edu/" style="font-family: &quot\;times new roman&quot\;\; font-size: 18px\;" target="_blank"><span style="color: rgb(0\, 0\, 255)\;">Mount Saint Mary College</span></a><br />\n<a href="https://www.pve-llc.com/" style="font-family: &quot\;times new roman&quot\;\; font-size: 18px\;" target="_blank"><span style="color: rgb(0\, 0\, 255)\;">PVE\, LLC</span></a><br />\n<a href="https://www.rbtcpas.com/" style="font-family: &quot\;times new roman&quot\;\; font-size: 18px\;" target="_blank"><span style="color: rgb(0\, 0\, 255)\;">RBT CPAs\, LLP</span></a><br />\n<span style="font-size:18px\;"><span style="font-family:times new roman\;"><a href="https://www.royalcarting.us/" target="_blank"><span style="color:#0000FF\;">Royal Carting Service Company</span></a></span></span><br />\n<br />\n<br />\n<strong><span style="color:#000000\;"><span style="font-size:18px\;"><span style="font-family:times new roman\;">Special Thanks to </span></span></span><span style="font-size:18px\;"><span style="font-family:times new roman\;"><a href="http://www.forgemedia.org/" target="_blank"><span style="color:#0000FF\;">Forge Media</span></a></span></span><span style="color:#000000\;"><span style="font-size:18px\;"><span style="font-family:times new roman\;"> at </span></span></span><span style="font-size:18px\;"><span style="font-family:times new roman\;"><a href="https://feelthearteffect.org/" target="_blank"><span style="color:#0000FF\;">The Art Effect</span></a></span></span></strong><br />\n&nbsp\;
LOCATION:Zoom
UID:e.2770.10482549
SEQUENCE:3
DTSTAMP:20260421T175149Z
URL:https://business.dcrcoc.org/events/details/14th-annual-athena-awards-virtual-ceremony-10482549
END:VEVENT

END:VCALENDAR
