BEGIN:VCALENDAR
VERSION:2.0
PRODID:-//ChamberMaster//Event Calendar 2.0//EN
METHOD:PUBLISH
X-PUBLISHED-TTL:P3D
REFRESH-INTERVAL:P3D
CALSCALE:GREGORIAN
BEGIN:VEVENT
DTSTART:20190411T213000Z
DTEND:20190412T010000Z
X-MICROSOFT-CDO-ALLDAYEVENT:FALSE
SUMMARY:14th Annual Cosimo DiBrizzi Celebrity Servers Dinner
DESCRIPTION:Registration is now closed. \n\nQuestions? Please call (845) 454-1700 ext 1000.\n\n\n\nStep up and trade that suit and tie in for an apron and help raise funds for a worthy cause! Or come out and enjoy a delectable three-course meal paired with wine served to you by a local celebrity in the business community.\n\n\n\nProceeds benefit the Cosimo DiBrizzi Memorial Scholarship. This scholarship\, established by the family of Cosimo DiBrizzi\, the Dutchess County Regional Chamber of Commerce and The Chamber Foundation\, was created to honor the memory of this well respected restaurateur and friend to many in the Hudson Valley. The Cosimo DiBrizzi Scholarship is available to any resident of the Hudson Valley who is pursuing a career in the Culinary Arts at the Culinary Institute of America.\n\n\n\n5:30 PM - Cocktail Reception (Cash Bar)\n\n6:15 PM - Wine Dinner\n\n\n\nSponsored by:  Riverside Bank a Division of Salisbury Bank and Trust Company\, Tompkins Mahopac Bank\, and Walden Savings Bank
X-ALT-DESC;FMTTYPE=text/html:<br />\n<span style="color: rgb(255\, 0\, 0)\;">Registration is now closed. </span><br />\n<strong>Questions? Please call (845) 454-1700 ext 1000.</strong><br />\n<br />\nStep up and trade that suit and tie in for an apron and help raise funds for a worthy cause! Or come out and enjoy a delectable three-course meal paired with wine served to you by a local celebrity in the business community.<br />\n<br />\nProceeds benefit the Cosimo DiBrizzi Memorial Scholarship. This scholarship\, established by the family of Cosimo DiBrizzi\, the Dutchess County Regional Chamber of Commerce and The Chamber Foundation\, was created to honor the memory of this well respected restaurateur and friend to many in the Hudson Valley. The Cosimo DiBrizzi Scholarship is available to any resident of the Hudson Valley who is pursuing a career in the Culinary Arts at the Culinary Institute of America.<br />\n<br />\n<strong>5:30 PM - Cocktail Reception (Cash Bar)<br />\n6:15 PM - Wine Dinner</strong><br />\n<br />\n<strong>Sponsored by: </strong><span style="display: none\;">&nbsp\;</span><span style="font-size: 16px\;"><a href="http://www.salisburybank.com/riverside/" target="_blank"><span style="color: rgb(0\, 0\, 205)\;">Riverside Bank a Division of Salisbury Bank and Trust Company</span></a><span style="color: rgb(0\, 0\, 205)\;">\,&nbsp\;</span><a href="http://www.mahopacbank.com/" target="_blank"><span style="color: rgb(0\, 0\, 205)\;">Tompkins Mahopac Bank</span></a><span style="color: rgb(0\, 0\, 205)\;">\, and&nbsp\;</span><a href="https://waldensavings.bank/" target="_blank"><span style="color: rgb(0\, 0\, 205)\;"><span style="font-family: Calibri\, sans-serif\; caret-color: rgb(0\, 0\, 0)\; text-size-adjust: auto\;">Walden Savings Bank</span></span></a></span><span style="display: none\;">&nbsp\;</span>
LOCATION:Cosimo's Brick Oven 120 Delafield Street Poughkeepsie\, NY 12601
UID:e.2770.10480430
SEQUENCE:3
DTSTAMP:20260423T062714Z
URL:https://business.dcrcoc.org/events/details/14th-annual-cosimo-dibrizzi-celebrity-servers-dinner-10480430
END:VEVENT

END:VCALENDAR
