BEGIN:VCALENDAR
VERSION:2.0
PRODID:-//ChamberMaster//Event Calendar 2.0//EN
METHOD:PUBLISH
X-PUBLISHED-TTL:P3D
REFRESH-INTERVAL:P3D
CALSCALE:GREGORIAN
BEGIN:VEVENT
DTSTART:20190407T123000Z
DTEND:20190407T150000Z
X-MICROSOFT-CDO-ALLDAYEVENT:FALSE
SUMMARY:14th Annual Hand and Hand Run Walk
DESCRIPTION:14th Annual Hand in Hand 5K Run/Walk\n\nSunday April 7\, 2019  8:30 am\n\nWalkway Over the Hudson   61 Parker Ave Poughkeepsie NY 12601\n\nTo register go to www.active.com\n\nFor more information call Lori Hale at 845/373-9511 ext.256 or www.facebook.com/HandInHandRunWalk/\n\nProceeds to benefit the Panichi Family Center for Communication and Learning\n\n\n\nAwards will be given to the top three male and female participants in these divisions:\n\n(UNDER 18) (19-29) (30-39) (40-49) (50-59) (60-69) (70+)\n\n\n\nAll Participants will be entered into a raffle for Yankees Box Seat Tickets
X-ALT-DESC;FMTTYPE=text/html:14th Annual Hand in Hand 5K Run/Walk<br />\nSunday April 7\, 2019 &nbsp\;8:30 am<br />\nWalkway Over the Hudson &ndash\; 61 Parker Ave Poughkeepsie NY 12601<br />\nTo register go to <a href="http://www.active.com">www.active.com</a><br />\nFor more information call Lori Hale at 845/373-9511 ext.256 or&nbsp\;www.facebook.com/HandInHandRunWalk/<br />\n<span style="font-family: calibri\,sans-serif\;"><span style="font-size: 11pt\;">Proceeds to benefit the Panichi Family Center for Communication and Learning</span></span><br />\n<br />\nAwards will be given to the top three male and&nbsp\;female participants in these divisions:<br />\n(UNDER 18) (19-29) (30-39) (40-49) (50-59) (60-69) (70+)<br />\n<br />\nAll Participants will be entered into a raffle for&nbsp\;Yankees Box Seat Tickets&nbsp\;<br />\n&nbsp\;
LOCATION:61 Parker Ave Poughkeepsie NY 12601
UID:e.2770.10480503
SEQUENCE:3
DTSTAMP:20260423T062713Z
URL:https://business.dcrcoc.org/events/details/14th-annual-hand-and-hand-run-walk-10480503
END:VEVENT

END:VCALENDAR
