BEGIN:VCALENDAR
VERSION:2.0
PRODID:-//ChamberMaster//Event Calendar 2.0//EN
METHOD:PUBLISH
X-PUBLISHED-TTL:P3D
REFRESH-INTERVAL:P3D
CALSCALE:GREGORIAN
BEGIN:VEVENT
DTSTART:20190224T190000Z
DTEND:20190224T220000Z
X-MICROSOFT-CDO-ALLDAYEVENT:FALSE
SUMMARY:(2 PM - 5 PM) Hudson Valley Young Professional's Strike for Scholars Bowling Tournament
DESCRIPTION:Please call to register a team!\n\n845-454-1700 ext. 1000\n\n\n\nThe Hudson Valley Young Professionals will present the Bowling Tournament benefiting The Chamber Foundation\, Inc.. Come enjoy food\, prizes\, and fun for all ages\, plus a trophy ceremony for top scoring teams!\n\n\n\nMusic Provided by: John Hannah's Mobile Music Services\n\n\n\np.p1 {margin: 0.0px 0.0px 0.0px 0.0px\; font: 24.0px Times}\np.p2 {margin: 0.0px 0.0px 0.0px 0.0px\; font: 16.0px Times\; color: #042eee}\np.p3 {margin: 0.0px 0.0px 0.0px 0.0px\; font: 16.0px Times\; color: #551a8b}\np.p4 {margin: 0.0px 0.0px 0.0px 0.0px\; font: 16.0px Times}\nspan.s1 {letter-spacing: 0.0px}\nspan.s2 {text-decoration: underline \; letter-spacing: 0.0px}\nspan.s3 {letter-spacing: 0.0px\; color: #000000}\nspan.s4 {text-decoration: underline \; letter-spacing: 0.0px\; color: #551a8b}\n\nThank you to our Sponsors: 40 Cannon Street\, S&O Construction Services\, Adelphi University\, Branding Pros and DCH Wappingers Falls Toyota
X-ALT-DESC;FMTTYPE=text/html:<br />\n<span style="font-family: verdana\;"><span style="color: rgb(255\, 0\, 0)\;"><strong>Please call to register a team!<br />\n845-454-1700 ext. 1000</strong></span></span><br />\n<br />\n<span style="font-size: 14px\;"><span style="font-family: arial\;">The Hudson Valley Young Professionals will present the Bowling Tournament benefiting The Chamber Foundation\, Inc.. Come enjoy food\, prizes\, and fun for all ages\, plus a trophy ceremony for top scoring teams!</span></span><br />\n<br />\n<span style="font-size: 14px\;"><strong>Music Provided by:</strong> <strong><a href="http://www.yourmobiledj.com" onclick="window.open(this.href\, ''\, 'resizable=no\,status=no\,location=no\,toolbar=no\,menubar=no\,fullscreen=no\,scrollbars=no\,dependent=no')\; return false\;"><span style="color: rgb(0\, 0\, 255)\;">John Hannah&#39\;s Mobile Music Services</span></a></strong></span><br />\n<br />\n<style type="text/css">p.p1 {margin: 0.0px 0.0px 0.0px 0.0px\; font: 24.0px Times}\np.p2 {margin: 0.0px 0.0px 0.0px 0.0px\; font: 16.0px Times\; color: #042eee}\np.p3 {margin: 0.0px 0.0px 0.0px 0.0px\; font: 16.0px Times\; color: #551a8b}\np.p4 {margin: 0.0px 0.0px 0.0px 0.0px\; font: 16.0px Times}\nspan.s1 {letter-spacing: 0.0px}\nspan.s2 {text-decoration: underline \; letter-spacing: 0.0px}\nspan.s3 {letter-spacing: 0.0px\; color: #000000}\nspan.s4 {text-decoration: underline \; letter-spacing: 0.0px\; color: #551a8b}\n</style>\n<p><span style="font-size: 14px\;"><span style="font-family: arial\;"><strong>Thank you to our Sponsors: <a href="https://40cannon.com/"><span style="color: rgb(0\, 0\, 205)\;">40 Cannon Street</span></a>\,&nbsp\;</strong></span></span><strong style="font-family: arial\; font-size: 14px\;"><a href="http://soconserv.com/"><span style="color: rgb(0\, 0\, 205)\;">S&amp\;O Construction Services</span></a><span style="color: rgb(0\, 0\, 205)\;">\,&nbsp\;</span></strong><span style="font-size: 14px\;"><span style="font-family: arial\;"><strong><a href="https://www.adelphi.edu/"><span style="color: rgb(0\, 0\, 255)\;">Adelphi University</span></a><span style="color: rgb(0\, 0\, 255)\;">\,&nbsp\;</span></strong></span><span style="font-size: 16px\;"><strong><span style="margin: 0px\; font-family: &quot\;Calibri&quot\;\,sans-serif\;"><a href="https://www.brandingpros.com/" target="_blank"><span style="color: rgb(0\, 0\, 255)\;">Branding Pros</span></a></span></strong><span style="margin: 0px\; color: black\; font-family: &quot\;Calibri&quot\;\,sans-serif\;">&nbsp\;and </span><strong><span style="margin: 0px\; font-family: &quot\;Calibri&quot\;\,sans-serif\;"><a href="https://www.dchwappingerstoyota.com/" target="_blank"><span style="color: rgb(0\, 0\, 255)\;">DCH Wappingers Falls Toyota</span></a></span></strong></span></span><br />\n&nbsp\;</p>\n
LOCATION:Schneider's Fishkill Bowl 110 Route 82 Fishkill\, NY
UID:e.2770.10480220
SEQUENCE:3
DTSTAMP:20260423T112455Z
URL:https://business.dcrcoc.org/events/details/2-pm-5-pm-hudson-valley-young-professional-s-strike-for-scholars-bowling-tournament-10480220
END:VEVENT

END:VCALENDAR
