BEGIN:VCALENDAR
VERSION:2.0
PRODID:-//ChamberMaster//Event Calendar 2.0//EN
METHOD:PUBLISH
X-PUBLISHED-TTL:P3D
REFRESH-INTERVAL:P3D
CALSCALE:GREGORIAN
BEGIN:VEVENT
DTSTART:20171130T220000Z
DTEND:20171201T010000Z
X-MICROSOFT-CDO-ALLDAYEVENT:FALSE
SUMMARY:2017 ATHENA Awards
DESCRIPTION:The ATHENA Awards reception will feature the 11 honorees being recognized for their accomplishments in their careers\, community volunteer involvement\, and willingness to serve as a mentor ? especially to women in the business community. \n\n\n\nDr. Kathy E. Magliato will give the keynote address. Dr. Magliato?s personal and professional successes tie into the ATHENA Leadership Model\, which captures the spirit and collaborative leadership style often exemplified in women leaders\, while also recognizing the importance of courageous acts and fierce advocacy in pursuit of excellence.\n\n\n\nThe honorees are: \n\n? Molly Ahearn\, Full Deck Design\n\n? Diane Allenbaugh\, Hudson Valley Federal Credit Union\n\n? Kathleen Durham\, Eleanor Roosevelt Center at Val-Kill\n\n? Ruthfen Faircloth\, Daughters of Sarah\n\n? Nicole Fenichel-Hewitt\, Mill Street Loft + Spark Media Project\n\n? Pari Forood\, Miles of Hope Breast Cancer Foundation\n\n? Lori A. Jiava\, Town of Wappinger\n\n? Annette Marzan\, Planned Parenthood Mid-Hudson Valley\n\n? Irene Monck\, Gilman Ciocia\n\n? Dr. Greer Rychcik\, Hyde Park Central School District\n\n? Rachel Saunders\, Esq.\, Legal Services of the Hudson Valley\n\n\n\nGold Sponsor:\n\nIBM Corporation\n\nKeyBank\n\n \n\nSilver Sponsors:\n\nThe Arc of Dutchess\n\nMackey Butts & Wise LLP\n\nServiceMaster Restore by NEST\n\nTompkins Mahopac Bank\n\n\n\nBronze Sponsors:\n\nDutchess Community College\n\nMcCabe & Mack LLP\, Attorneys-At-Law\n\nMid-Hudson Subaru and Rhinebeck Ford\n\n\n\nProfile Sponsor:\n\nHudson Valley Federal Credit Union\n\n \n\nSupporting Sponsor:\n\nAdams Fairacre Farms\n\nThe Chazen Companies\n\n\n\nVIP Reception Presented By:\n\nMidHudson Regional Hospital\n\n\n\nVIP Reception Sponsored By:\n\nDCH Wappingers Falls Toyota\n\nWainwright Financial Solutions
X-ALT-DESC;FMTTYPE=text/html:<span style="color: rgb(75\, 79\, 86)\; font-family: &quot\;Helvetica Neue&quot\;\, Helvetica\, Arial\, sans-serif\; font-size: 14px\;">The ATHENA Awards reception will feature the 11 honorees being recognized for their accomplishments in their careers\, community volunteer involvement\, and willingness to serve as a mentor ? especially to women in the business community.&nbsp\;</span><br style="color: rgb(75\, 79\, 86)\; font-family: &quot\;Helvetica Neue&quot\;\, Helvetica\, Arial\, sans-serif\; font-size: 14px\;" />\n<br style="color: rgb(75\, 79\, 86)\; font-family: &quot\;Helvetica Neue&quot\;\, Helvetica\, Arial\, sans-serif\; font-size: 14px\;" />\n<span style="color: rgb(75\, 79\, 86)\; font-family: &quot\;Helvetica Neue&quot\;\, Helvetica\, Arial\, sans-serif\; font-size: 14px\;">Dr. Kathy E. Magliato will give the keynote address. Dr. Magliato?s personal and professional successes tie into the ATHENA Leadership Model\, which captures the spirit and collaborative leadership style often exemplified in women leaders\, while also recognizing the importance of courageous acts and fierce advocacy in pursuit of excellence.</span><br />\n<br style="color: rgb(75\, 79\, 86)\; font-family: &quot\;Helvetica Neue&quot\;\, Helvetica\, Arial\, sans-serif\; font-size: 14px\;" />\n<span style="color: rgb(75\, 79\, 86)\; font-family: &quot\;Helvetica Neue&quot\;\, Helvetica\, Arial\, sans-serif\; font-size: 14px\;">The honorees are:&nbsp\;</span><br style="color: rgb(75\, 79\, 86)\; font-family: &quot\;Helvetica Neue&quot\;\, Helvetica\, Arial\, sans-serif\; font-size: 14px\;" />\n<span style="color: rgb(75\, 79\, 86)\; font-family: &quot\;Helvetica Neue&quot\;\, Helvetica\, Arial\, sans-serif\; font-size: 14px\;">? Molly Ahearn\, Full Deck Design</span><br style="color: rgb(75\, 79\, 86)\; font-family: &quot\;Helvetica Neue&quot\;\, Helvetica\, Arial\, sans-serif\; font-size: 14px\;" />\n<span style="color: rgb(75\, 79\, 86)\; font-family: &quot\;Helvetica Neue&quot\;\, Helvetica\, Arial\, sans-serif\; font-size: 14px\;">? Diane Allenbaugh\, Hudson V</span><span class="text_exposed_show" style="display: inline\; font-family: &quot\;Helvetica Neue&quot\;\, Helvetica\, Arial\, sans-serif\; color: rgb(75\, 79\, 86)\; font-size: 14px\;">alley Federal Credit Union<br />\n? Kathleen Durham\, Eleanor Roosevelt Center at Val-Kill<br />\n? Ruthfen Faircloth\, Daughters of Sarah<br />\n? Nicole Fenichel-Hewitt\, Mill Street Loft + Spark Media Project<br />\n? Pari Forood\, Miles of Hope Breast Cancer Foundation<br />\n? Lori A. Jiava\, Town of Wappinger<br />\n? Annette Marzan\, Planned Parenthood Mid-Hudson Valley<br />\n? Irene Monck\, Gilman Ciocia<br />\n? Dr. Greer Rychcik\, Hyde Park Central School District<br />\n? Rachel Saunders\, Esq.\, Legal Services of the Hudson Valley</span><br />\n<br />\n<span style="font-size:14px\;"><span style="font-family:arial\;"><strong><span style="color:#333333\;">Gold Sponsor:</span></strong><br />\n<a href="http://www.ibm.com" target="_blank"><span style="color:#0000FF\;">IBM Corporation</span></a><br />\n<a href="https://www.key.com/personal/index.jsp?key=com" target="_blank"><span style="color:#0000FF\;">KeyBank<br />\n<strong>&#8203\;</strong></span></a><br />\n<span style="color:#333333\;"><strong>Silver Sponsors:</strong></span><br />\n<a href="http://arcdutchess.org" target="_blank"><span style="color:#0000FF\;">The Arc of Dutchess</span></a><br />\n<a href="http://mbwise.com" target="_blank"><span style="color:#0000FF\;">Mackey Butts &amp\; Wise LLP</span></a><br />\n<a href="https://www.facebook.com/NESTConstructionCorp/" target="_blank"><span style="color:#0000FF\;">ServiceMaster Restore by NEST</span></a><br />\n<a href="https://www.mahopacbank.com" target="_blank"><span style="color:#0000FF\;">Tompkins Mahopac Bank</span></a><br />\n<br />\n<strong><span style="color:#333333\;">Bronze Sponsors</span></strong><span style="background:white\;"><span style="color:#333333\;">:</span><br />\n<a href="http://www.sunydutchess.edu/" target="_blank"><span style="color:#0000FF\;">Dutchess Community College</span></a></span><br />\n<a href="http://www.mccm.com/" target="_blank"><span style="color:#0000FF\;">McCabe &amp\; Mack LLP\, Attorneys-At-Law</span></a></span></span><br />\n<span style="font-size:14px\;"><span style="font-family:arial\;"><span style="font-variant-ligatures: normal\; font-variant-numeric: normal\; line-height: normal\;"><a href="http://www.midhudsonsubaru.com" target="_blank"><span style="color:#0000FF\;">Mid-Hudson Subaru</span></a></span><span style="color: rgb(0\, 0\, 0)\; font-variant-ligatures: normal\; font-variant-position: normal\; font-variant-numeric: normal\; font-variant-alternates: normal\; font-variant-east-asian: normal\; line-height: normal\;"> and </span><span style="font-variant-ligatures: normal\; font-variant-numeric: normal\; line-height: normal\;"><a href="http://www.rhinebeckfordinc.com" target="_blank"><span style="color:#0000FF\;">Rhinebeck Ford</span></a></span></span></span><br />\n<br />\n<span style="font-size:14px\;"><span style="font-family:arial\;"><strong><span style="color:#333333\;">Profile Sponsor</span></strong><span style="background:white\;"><span style="color:#333333\;">:</span><br />\n<a href="http://www.hvfcu.org/" target="_blank"><span style="color:#0000FF\;">Hudson Valley Federal Credit Union</span></a></span><br />\n<span style="color:#0000FF\;">&nbsp\;</span><br />\n<strong><span style="color:#333333\;">Supporting Sponsor</span></strong><span style="background:white\;"><span style="color:#333333\;">:</span><br />\n<a href="http://www.adamsfarms.com/" target="_blank"><span style="color:#0000FF\;">Adams Fairacre Farms</span></a></span><br />\n<a href="http://www.chazencompanies.com" target="_blank"><span style="color:#0000FF\;">The Chazen Companies</span></a><br />\n<br />\n<strong><span style="color:#333333\;">VIP Reception Presented By:</span></strong><br />\n<a href="http://www.midhudsonregional.org/" style="font-family: arial\, sans-serif\;" target="_blank"><span style="color:#0000FF\;">MidHudson&nbsp\;Regional Hospital</span></a><br />\n<br />\n<strong><span style="color:#333333\;">VIP Reception Sponsored By</span></strong><span style="background:white\;"><span style="color:#333333\;">:</span><br />\n<a href="http://www.dchwappingerstoyota.com/" target="_blank"><span style="color:#0000FF\;">DCH&nbsp\;Wappingers&nbsp\;Falls Toyota</span></a></span><br />\n<span style="background:white\;"><a href="http://www.wainwrightfinancialsolutions.com/" target="_blank"><span style="color:#0000FF\;">Wainwright Financial Solutions</span></a></span></span></span>
LOCATION:Villa Borghese 70 Widmer Road Wappingers Falls\, NY 12590
UID:e.2770.10474404
SEQUENCE:3
DTSTAMP:20260426T020338Z
URL:https://business.dcrcoc.org/events/details/2017-athena-awards-10474404
END:VEVENT

END:VCALENDAR
