BEGIN:VCALENDAR
VERSION:2.0
PRODID:-//ChamberMaster//Event Calendar 2.0//EN
METHOD:PUBLISH
X-PUBLISHED-TTL:P3D
REFRESH-INTERVAL:P3D
CALSCALE:GREGORIAN
BEGIN:VEVENT
DTSTART:20171028T190000Z
DTEND:20171029T010000Z
X-MICROSOFT-CDO-ALLDAYEVENT:FALSE
SUMMARY:2017 Haunted Mill + Monster's Ball
DESCRIPTION:Equal parts spooky\, enchanting\, creepy\, and fanciful. We invite you to immerse yourself in our annual Haunted Mill\, where artists have transformed the towering Maxon Mills into an exciting Halloween experience. The Kids' Haunted Mill will be open from 3-5PM\, with family-friendly Halloween festivities\, including: hay rides\, a costume contest\, face painting\, snacks\, carnival activities\, and more! As the sun sets\, the Adults' Haunted Mill opens from 6-9PM. We dare you to venture up the winding staircases of Maxon Mills for seven floors of thrills and chills. At 9PM\, the party continues into the evening at the Monster's Ball at the Lantern with live music and DJ sets. Come prepared to impress in your Halloween costume!
X-ALT-DESC;FMTTYPE=text/html:Equal parts spooky\, enchanting\, creepy\, and fanciful. We invite you to immerse yourself in our annual Haunted Mill\, where artists have transformed the towering Maxon Mills into an exciting Halloween experience. The Kids&rsquo\; Haunted Mill will be open from 3-5PM\, with family-friendly Halloween festivities\, including: hay rides\, a costume contest\, face painting\, snacks\, carnival activities\, and more! As the sun sets\, the Adults&rsquo\; Haunted Mill opens from 6-9PM. We dare you to venture up the winding staircases of Maxon Mills for seven floors of thrills and chills. At 9PM\, the party continues into the evening at the Monster&rsquo\;s Ball at the Lantern with live music and DJ sets. Come prepared to impress in your Halloween costume!
LOCATION:The Wassaic Project 37 Furnace Bank Road 12592
UID:e.2770.10476250
SEQUENCE:3
DTSTAMP:20260426T033316Z
URL:https://business.dcrcoc.org/events/details/2017-haunted-mill-monster-s-ball-10476250
END:VEVENT

END:VCALENDAR
