BEGIN:VCALENDAR
VERSION:2.0
PRODID:-//ChamberMaster//Event Calendar 2.0//EN
METHOD:PUBLISH
X-PUBLISHED-TTL:P3D
REFRESH-INTERVAL:P3D
CALSCALE:GREGORIAN
BEGIN:VEVENT
DTSTART:20180324T130000Z
DTEND:20180324T160000Z
X-MICROSOFT-CDO-ALLDAYEVENT:FALSE
SUMMARY:2018 Dutchess Ulster Heart Walk
DESCRIPTION:Join us for the 2018 Dutchess Ulster Heart Walk! The Heart Walk is the American Heart Association's premier event for raising funds to save lives from this country's No. 1 and No. 5 killers - heart disease and stroke. Heart disease and stroke survivors are an important part of our Heart Walks. Each survivor receives a red ball cap and have the opportunity to gather with other survivors. Don't go at it alone! Create a team with your friends and family at your local Heart Walk! Together\, you can fundraise and help fight heart disease and stroke.
X-ALT-DESC;FMTTYPE=text/html:Join us for the 2018 Dutchess Ulster Heart Walk! The Heart Walk is the American Heart Association&#39\;s premier event for raising funds to save lives from this country&#39\;s No. 1 and No. 5 killers - heart disease and stroke. Heart disease and stroke survivors are an important part of our Heart Walks. Each survivor receives a red ball cap and have the opportunity to gather with other survivors. Don&rsquo\;t go at it alone! Create a team with your friends and family at your local Heart Walk! Together\, you can fundraise and help fight heart disease and stroke.
LOCATION:Marist College\, Auxiliary Gym - McCann Center
UID:e.2770.10476740
SEQUENCE:3
DTSTAMP:20260425T210439Z
URL:https://business.dcrcoc.org/events/details/2018-dutchess-ulster-heart-walk-10476740
END:VEVENT

END:VCALENDAR
