BEGIN:VCALENDAR
VERSION:2.0
PRODID:-//ChamberMaster//Event Calendar 2.0//EN
METHOD:PUBLISH
X-PUBLISHED-TTL:P3D
REFRESH-INTERVAL:P3D
CALSCALE:GREGORIAN
BEGIN:VEVENT
DTSTART:20180930T150000Z
DTEND:20180930T180000Z
X-MICROSOFT-CDO-ALLDAYEVENT:FALSE
SUMMARY:Ronald McDonald House of the Greater Hudson Valley 2018 Dylan J. Hoffman Memorial Walk and Family Fun Day
DESCRIPTION:Join Ronald McDonald House of the Greater Hudson Valley at the 4th Annual Dylan J. Hoffman Walk & Family Fun Day to benefit the Ronald McDonald House of the Greater Hudson Valley. The event will benefit families in the Hudson Valley and beyond with critically ill children.\n\n \n\nThe Walk will be a leisurely stroll around the oval at the Westchester Medical Center - approximately a 1.2 mile lap. \n\n \n\nRegistration and Warm-Up: 11 AM\n\nWalk: 11:30 AM\n\n \n\nAfter the walk\, enjoy fun family activities including Wacky Inflatables Bounce Houses\, the Bubble Bus\, BASF Kids Slime Lab\, Teatown Lake Reservation Birds of Prey\, Music by DJ Johnny G and more.  Stay for the BBQ by the Yonkers Fire Department! \n\n \n\nDylan lived a short life\, but his memory and spirit are alive and well. This event\, hosted by the House in conjunction with the Hoffman Family\, allows us to celebrate his life and the thousands of families who have stayed with us since our inception. \n\n \n\nThrough individual\, corporate and foundation support\, your group can help us continue to impact many more lives. Please review the sponsorship opportunities for this year's walk and select a level which allows your group to help and participate. \n\n \n\nWe look forward to sharing this special day with you!
X-ALT-DESC;FMTTYPE=text/html:<div><strong>Join Ronald McDonald House of the Greater Hudson Valley at the 4th Annual Dylan J. Hoffman Walk &amp\; Family Fun Day to benefit the Ronald McDonald House of the Greater Hudson Valley. The event will benefit families in the Hudson Valley and beyond with critically ill children.</strong></div>\n\n<div>&nbsp\;</div>\n\n<div><strong>The Walk will be a leisurely stroll around the oval at the Westchester Medical Center - approximately a 1.2 mile lap.&nbsp\;</strong></div>\n\n<div>&nbsp\;</div>\n\n<div><strong>Registration and Warm-Up: 11 AM</strong></div>\n\n<div><strong>Walk: 11:30 AM</strong></div>\n\n<div>&nbsp\;</div>\n\n<div><strong>After the walk\, enjoy fun family activities including Wacky Inflatables Bounce Houses\, the Bubble Bus\, BASF Kids Slime Lab\, Teatown Lake Reservation Birds of Prey\, Music by DJ Johnny G and more.&nbsp\; Stay for the BBQ by the Yonkers Fire Department!&nbsp\;</strong></div>\n\n<div>&nbsp\;</div>\n\n<div><strong>Dylan lived a short life\, but his memory and spirit are alive and well. This event\, hosted by the House in conjunction with the Hoffman Family\, allows us to celebrate his life and the thousands of families who have stayed with us since our inception.&nbsp\;</strong></div>\n\n<div>&nbsp\;</div>\n\n<div><strong>Through individual\, corporate and foundation support\, your group can help us continue to impact many more lives. Please review the sponsorship opportunities for this year&#39\;s walk and select a level which allows your group to help and participate.&nbsp\;</strong></div>\n\n<div>&nbsp\;</div>\n\n<div><strong>We look forward to sharing this special day with you!</strong></div>\n
LOCATION:Located at the Oval on the grounds of the Ronald McDonald house of the GReater Hudson Valley 80 Woods ROad Valhalla\, NY 10595
UID:e.2770.10479332
SEQUENCE:3
DTSTAMP:20260425T131639Z
URL:https://business.dcrcoc.org/events/details/2018-dylan-j-hoffman-memorial-walk-and-family-fun-day-10479332
END:VEVENT

END:VCALENDAR
