BEGIN:VCALENDAR
VERSION:2.0
PRODID:-//ChamberMaster//Event Calendar 2.0//EN
METHOD:PUBLISH
X-PUBLISHED-TTL:P3D
REFRESH-INTERVAL:P3D
CALSCALE:GREGORIAN
BEGIN:VEVENT
DTSTART:20180407T170000Z
DTEND:20180407T220000Z
X-MICROSOFT-CDO-ALLDAYEVENT:FALSE
SUMMARY:2018 Etextile Spring Social
DESCRIPTION:The Wassaic Project will host an eTextile Spring Break Social on Saturday\, April 7 from 1-6pm. The eTextile Spring Break Social will be located in the historic Maxon Mills\, located in Wassaic\, NY and will include a series of talks\, informal discussions and small workshops along with an exhibition at the intersection of craft\, technology\, and textiles. One of the themes the social will focus on is the "Revel in The (Un) Ravel. We take things apart to figure out how they work. We relish the process and take time to consider it. We seek to be open and question things that are closed. We embrace constraints and work within imperfections. From broken threads and lost components\, we craft things anew. Those interested in the intersection of technology\, craft and/or textiles are encouraged to attend. To RSVP for this event\, please contact etextilespringbreak.org
X-ALT-DESC;FMTTYPE=text/html:The Wassaic Project will host an eTextile Spring Break Social on Saturday\, April 7 from 1-6pm. The eTextile Spring Break Social will be located in the historic Maxon Mills\, located in Wassaic\, NY and will include a series of talks\, informal discussions and small workshops along with an exhibition at the intersection of craft\, technology\, and textiles. One of the themes the social will focus on is the &quot\;Revel in The (Un) Ravel. We take things apart to figure out how they work. We relish the process and take time to consider it. We seek to be open and question things that are closed. We embrace constraints and work within imperfections. From broken threads and lost components\, we craft things anew. Those interested in the intersection of technology\, craft and/or textiles are encouraged to attend. To RSVP for this event\, please contact etextilespringbreak.org
LOCATION:37 Furnace Bank Road Wassaic NY 12592
UID:e.2770.10477165
SEQUENCE:3
DTSTAMP:20260425T194758Z
URL:https://business.dcrcoc.org/events/details/2018-etextile-spring-social-10477165
END:VEVENT

END:VCALENDAR
