BEGIN:VCALENDAR
VERSION:2.0
PRODID:-//ChamberMaster//Event Calendar 2.0//EN
METHOD:PUBLISH
X-PUBLISHED-TTL:P3D
REFRESH-INTERVAL:P3D
CALSCALE:GREGORIAN
BEGIN:VEVENT
DTSTART:20181001T123000Z
DTEND:20181001T210000Z
X-MICROSOFT-CDO-ALLDAYEVENT:FALSE
SUMMARY:2018 Nussbickel Annual Golf Tournament
DESCRIPTION:***PLEASE CALL (845) 454-1700 Ext.1026 for reservations.***\n\n\n\nThe Chamber Foundation's annual golf tournament in support of the Norman & Rita Nussbickel Memorial Scholarship. Singles and Foursomes available!\n\n\n\nReception Sponsor: N&S Supply\n\n\n\nHole-In-One Sponsor: Hudson Cadillac-Buick-GMC\n\n\n\nLunch Sponsor: Mobile Life Support Services\n\n\n\nGolf Ball Sponsor: Key Construction Services\n\n\n\nGift Sponsor: Branding Pros\n\n\n\nBeverage Cart Sponsor: ServiceMaster By Nest\n\n\n\nPutting Green Sponsor: Construction Contractors Association of the Hudson Valley and Fabricatiors\, Erectors and Reinforcers Association of the Hudson Valley\n\n\n\nPar Sponsors: \n\n\n\nD'Arcangelo & Co.\, LLP\n\n\n\nJudelson\, Giordano & Siegel\, CPA\, PC\n\n\n\nPoughkeepsie Galleria\n\n\n\nQuality Environmental Solutions and Technologies\n\n\n\nRBT CPAs\, LLP\n\n\n\nRiverside Bank a Division of Salisbury Bank and Trust Company\n\n\n\nRoyal Carting Services Company\n\n\n\nS & O Construction Service\, Inc.\n\n\n\nTEG Federal Credit Union\n\n\n\nTompkins Mahopac Bank
X-ALT-DESC;FMTTYPE=text/html:<br />\n<span style="font-size: 14px\;"><span style="font-size:18px\;"><span style="color:#FF0000\;"><strong>***PLEASE CALL (845) 454-1700 Ext.1026 for reservations.***</strong></span></span><br />\n<br />\nThe Chamber Foundation&#39\;s annual golf tournament in support of the Norman &amp\; Rita Nussbickel Memorial Scholarship. Singles and Foursomes available!<br />\n<br />\n<span style="font-size: 16px\;"><strong>Reception Sponsor:&nbsp\;</strong></span></span><strong><span style="font-size: 14px\;"><span style="font-size: 16px\;"><a href="http://www.nssupply.com/" target="_blank"><span style="color: rgb(0\, 0\, 255)\;">N&amp\;S Supply</span></a></span></span></strong><br />\n<br />\n<span style="font-size: 14px\;"><span style="font-size: 16px\;"><strong>Hole-In-One Sponsor: <a href="https://www.hudsonbuickgmc.com/" target="_blank"><span style="color: rgb(0\, 0\, 255)\;">Hudson Cadillac-Buick-GMC</span></a></strong></span></span><br />\n<br />\n<span style="font-size: 14px\;"><span style="font-size: 16px\;"><strong>Lunch Sponsor: <a href="http://www.mobilelife.com" target="_blank"><span style="color: rgb(0\, 0\, 255)\;">Mobile Life Support Services</span></a><br />\n<br />\nGolf Ball Sponsor: <a href="http://www.keyconstructionservices.com" target="_blank"><span style="color: rgb(0\, 0\, 255)\;">Key Construction Services</span></a><br />\n<br />\nGift Sponsor:&nbsp\;</strong></span></span><strong><a href="http://www.brandingpros.com/" style="font-size: 16px\;" target="_blank"><span style="color: rgb(0\, 0\, 255)\;">Branding Pros</span></a></strong><br />\n<br />\n<span style="font-size: 14px\;"><span style="font-size: 16px\;"><strong>Beverage Cart Sponsor: <a href="http://www.facebook.com/servicemasterbynest/" target="_blank"><span style="color: rgb(0\, 0\, 255)\;">ServiceMaster By Nest</span></a></strong></span></span><br />\n<br />\n<span style="font-size: 14px\;"><span style="font-size: 16px\;"><strong>Putting Green Sponsor: <a href="https://www.ccahv.com/" target="_blank"><span style="color: rgb(0\, 0\, 255)\;">Construction Contractors Association of the Hudson Valley and Fabricatiors\, Erectors and Reinforcers Association of the Hudson Valley</span></a></strong></span></span><br />\n<br />\n<span style="font-size: 14px\;"><span style="font-size: 16px\;"><strong>Par Sponsors:&nbsp\;</strong></span></span><br />\n<br />\n<strong><a href="https://www.darcangelo.com/" style="font-size: 16px\;" target="_blank"><span style="color: rgb(0\, 0\, 255)\;">D&#39\;Arcangelo &amp\; Co.\, LLP</span></a><br />\n<br />\n<a href="http://www.jgspc.com/" style="font-size: 16px\;" target="_blank"><span style="color: rgb(0\, 0\, 255)\;">Judelson\, Giordano &amp\; Siegel\, CPA\, PC</span></a><br />\n<br />\n<a href="https://www.poughkeepsiegalleriamall.com/" style="font-size: 16px\;" target="_blank"><span style="color: rgb(0\, 0\, 255)\;">Poughkeepsie Galleria</span></a><br />\n<br />\n<a href="http://www.qualityenv.com/" style="font-size: 16px\;" target="_blank"><span style="color: rgb(0\, 0\, 255)\;">Quality Environmental Solutions and Technologies</span></a><br />\n<br />\n<a href="http://www.rbtcpas.com/" style="font-size: 16px\;" target="_blank"><font color="#0000ff">RBT CPAs\, LLP</font></a><br />\n<br />\n<a href="https://www.salisburybank.com/riverside/" target="_blank"><span style="color: rgb(0\, 0\, 255)\;"><span style="font-size: 16px\;">Riverside Bank a Division of Salisbury Bank and Trust Company</span></span></a><br />\n<br />\n<span style="font-size: 14px\;"><span style="font-size: 16px\;"><a href="http://www.royalcarting.com/" target="_blank"><font color="#0000ff">Royal Carting Services Company</font></a><br />\n<br />\n<a href="http://soconserv.com/" target="_blank"><font color="#0000ff">S &amp\; O Construction Service\, Inc.</font></a></span></span><br />\n<br />\n<span style="font-size: 14px\;"><span style="font-size: 16px\;"><a href="https://www.tegfcu.com/" target="_blank"><span style="color: rgb(0\, 0\, 255)\;">TEG Federal Credit Union</span></a><br />\n<br />\n<a href="https://www.mahopacbank.com/" target="_blank"><span style="color: rgb(0\, 0\, 255)\;">Tompkins Mahopac Bank</span></a></span></span></strong><br />\n<br />\n<br />\n<br />\n&nbsp\;
LOCATION:The Links at Union Vale 153 North Parliman Road LaGrangeville\, NY 12540
UID:e.2770.10476497
SEQUENCE:3
DTSTAMP:20260425T114903Z
URL:https://business.dcrcoc.org/events/details/2018-nussbickel-annual-golf-tournament-10476497
END:VEVENT

END:VCALENDAR
