BEGIN:VCALENDAR
VERSION:2.0
PRODID:-//ChamberMaster//Event Calendar 2.0//EN
METHOD:PUBLISH
X-PUBLISHED-TTL:P3D
REFRESH-INTERVAL:P3D
CALSCALE:GREGORIAN
BEGIN:VEVENT
DTSTART:20190617T123000Z
DTEND:20190617T210000Z
X-MICROSOFT-CDO-ALLDAYEVENT:FALSE
SUMMARY:2019 Nussbickel Annual Golf Tournament
DESCRIPTION:Questions? Please Call (845) 454-1700 Ext. 1000\n\n\n\nThe Chamber Foundation's annual golf tournament in support of the Norman & Rita Nussbickel Memorial Scholarship. Singles and Foursomes available!\n\n\n\nReception Sponsor:\n\nN & S Supply \n\n \n\nHole-In-One Sponsor:\n\nHudson Cadillac-Buick-GMC\n\n \n\nGolf Ball Sponsor:\n\nKey Construction Services\n\n \n\nGift Sponsor:\n\nBranding Pros\n\n \n\nBeverage Cart Sponsor:\n\nServiceMaster by Nest\n\n \n\nPutting green sponsor:\n\nConstruction Contractors Association of the Hudson Valley and Fabricators\, Erectors and Reinforcers Association of the Hudson Valley\n\n \n\nPar Sponsors:\n\nD'Arcangelo & Co.\, LLP\n\nJGS\, CPA\n\nPoughkeepsie Galleria\n\nQuality Environmental Solutions & Technologies\, Inc.\n\nRBT CPAs\, LLP\n\nRiverside Bank - A Division of Salisbury Bank and Trust Company\n\nRoyal Carting Service Company\n\nS&O Construction Services\n\nTEG Federal Credit Union\n\nTompkins Mahopac Bank\n\nWhalen Architecture\, PLLC
X-ALT-DESC;FMTTYPE=text/html:<br />\n<span style="font-family: verdana\;"><span style="font-size: 14px\;"><span style="font-size:16px\;"><span style="color:#0000FF\;"><strong>Questions? Please Call (845) 454-1700 Ext. 1000</strong></span></span><br />\n<br />\n<span style="color:#000000\;">The Chamber Foundation&#39\;s annual golf tournament in support of the Norman &amp\; Rita Nussbickel Memorial Scholarship. Singles and Foursomes available!</span></span></span><br />\n<br />\n<span style="font-size:16px\;"><strong>Reception Sponsor:</strong><br />\n<strong><a href="http://www.nssupply.com"><span style="color:#0000FF\;">N &amp\; S Supply </span></a></strong><br />\n&nbsp\;<br />\n<strong>Hole-In-One Sponsor:</strong><br />\n<strong><a href="http://www.hudsongm.com"><span style="color:#0000FF\;">Hudson Cadillac-Buick-GMC</span></a></strong><br />\n<span style="color:#0000FF\;">&nbsp\;</span><br />\n<strong>Golf Ball Sponsor:</strong><br />\n<strong><a href="http://www.keyconstructionservices.com"><span style="color:#0000FF\;">Key Construction Services</span></a></strong><br />\n&nbsp\;<br />\n<strong>Gift Sponsor:</strong><br />\n<strong><a href="https://www.brandingpros.com/"><span style="color:#0000FF\;">Branding Pros</span></a></strong><br />\n&nbsp\;<br />\n<strong>Beverage Cart Sponsor:</strong><br />\n<strong><a href="https://www.servicemasterrestore.com/locations/ny/poughkeepsie/servicemaster-cleaning-and-restoration-9947"><span style="color:#0000FF\;">ServiceMaster by Nest</span></a></strong><br />\n&nbsp\;<br />\n<strong>Putting green sponsor:</strong><br />\n<strong><a href="https://www.ccahv.com/"><span style="color:#0000FF\;">Construction Contractors Association of the Hudson Valley and Fabricators\, Erectors and Reinforcers Association of the Hudson Valley</span></a></strong><br />\n&nbsp\;<br />\n<strong>Par Sponsors:</strong><br />\n<strong><a href="http://www.darcangelo.com"><span style="color:#0000FF\;">D&rsquo\;Arcangelo &amp\; Co.\, LLP</span></a><br />\n<a href="http://www.jgspc.com"><span style="color:#0000FF\;">JGS\, CPA</span></a><br />\n<a href="https://www.poughkeepsiegalleriamall.com/"><span style="color:#0000FF\;">Poughkeepsie Galleria</span></a><br />\n<a href="http://www.qualityenv.com"><span style="color:#0000FF\;">Quality Environmental Solutions &amp\; Technologies\, Inc.</span></a><br />\n<a href="http://www.rbtcpas.com/"><span style="color:#0000FF\;">RBT CPAs\, LLP</span></a><br />\n<a href="https://www.salisburybank.com/riverside/"><span style="color:#0000FF\;">Riverside Bank - A Division of Salisbury Bank and Trust Company</span></a><br />\n<a href="http://www.royalcarting.com"><span style="color:#0000FF\;">Royal Carting Service Company</span></a><br />\n<a href="http://www.soconserv.com"><span style="color:#0000FF\;">S&amp\;O Construction Services</span></a><br />\n<a href="http://www.tegfcu.com"><span style="color:#0000FF\;">TEG Federal Credit Union</span></a><br />\n<a href="https://www.mahopacbank.com/"><span style="color:#0000FF\;">Tompkins Mahopac Bank</span></a><br />\n<a href="http://www.whalenarchitecture.com"><span style="color:#0000FF\;">Whalen Architecture\, PLLC</span></a></strong></span>
LOCATION:Trump National Golf Club - Hudson Valley 178 Stormville Road Hopewell Junction\, NY 12533
UID:e.2770.10479957
SEQUENCE:3
DTSTAMP:20260423T025252Z
URL:https://business.dcrcoc.org/events/details/2019-nussbickel-annual-golf-tournament-10479957
END:VEVENT

END:VCALENDAR
