BEGIN:VCALENDAR
VERSION:2.0
PRODID:-//ChamberMaster//Event Calendar 2.0//EN
METHOD:PUBLISH
X-PUBLISHED-TTL:P3D
REFRESH-INTERVAL:P3D
CALSCALE:GREGORIAN
BEGIN:VEVENT
DTSTART:20190323T230000Z
DTEND:20190324T030000Z
X-MICROSOFT-CDO-ALLDAYEVENT:FALSE
SUMMARY:2019 Ring Masters Championships Road to the Garden
DESCRIPTION:Join us for the "2019 Ring Masters Championships Road to the Garden" presented by Floyd Patterson Boxing Club and DC 10-13 Foundation. Ringside table seating available! Please contact Brian Burke via phone to book\, (845) 702 6480. Table: 8 person\, ringside table\, buffet dinner & unlimited soft drinks\; $850 Table: 8 person\, non-ringside table\, buffet dinner & soft drinks\; $550 Tickets: GA\; $20\, Kids 12 & under\; $10 *Purchase in Box Office 1/2 Price tickets to first responders and veterans with valid I.D.
X-ALT-DESC;FMTTYPE=text/html:Join us for the &ldquo\;2019 Ring Masters Championships Road to the Garden&rdquo\; presented by Floyd Patterson Boxing Club and DC 10-13 Foundation. Ringside table seating available! Please contact Brian Burke via phone to book\, (845) 702&ndash\;6480. Table: 8 person\, ringside table\, buffet dinner &amp\; unlimited soft drinks\; $850 Table: 8 person\, non-ringside table\, buffet dinner &amp\; soft drinks\; $550 Tickets: GA\; $20\, Kids 12 &amp\; under\; $10 *Purchase in Box Office 1/2 Price tickets to first responders and veterans with valid I.D.
LOCATION:Mid-Hudson Civic Center 14 Civic Center Plaza Poughkeepsie\, NY 12601
UID:e.2770.10480549
SEQUENCE:3
DTSTAMP:20260423T095801Z
URL:https://business.dcrcoc.org/events/details/2019-ring-masters-championships-road-to-the-garden-10480549
END:VEVENT

END:VCALENDAR
