BEGIN:VCALENDAR
VERSION:2.0
PRODID:-//ChamberMaster//Event Calendar 2.0//EN
METHOD:PUBLISH
X-PUBLISHED-TTL:P3D
REFRESH-INTERVAL:P3D
CALSCALE:GREGORIAN
BEGIN:VEVENT
DTSTART:20201013T130000Z
DTEND:20201013T210000Z
X-MICROSOFT-CDO-ALLDAYEVENT:FALSE
SUMMARY:2020 Nussbickel Annual Golf Tournament
DESCRIPTION:This event is at capacity\, but if you would like to be added to a waiting list please call (845) 454-1700 Ext. 1000.\n\n\n\nThe Chamber Foundation's annual golf tournament in support of the Norman & Rita Nussbickel Memorial Scholarship.\n\n\n\nGold Sponsor:\n\nN & S Supply\n\n\n\nHole-In-One Sponsor:\n\nHudson Cadillac-Buick-GMC\n\n\n\nGolf Ball Sponsor:\n\nKey Construction Services\n\n\n\nGift Sponsor:\n\nBranding Pros\n\n\n\nPar Sponsors:\n\nJGS\, CPA\, P.C.\n\nPrager Metis CPAs\n\nQuES&T\; RBT CPAs\n\nRiverside Bank - A Division of Salisbury Bank and Trust Company\n\nRondout Savings Bank\n\nRoyal Carting Service Company\n\nS&O Construction Services\n\nTEG Federal Credit Union\n\nTompkins Mahopac Bank
X-ALT-DESC;FMTTYPE=text/html:<br />\n<span style="font-family:times new roman\;"><span style="font-size:16px\;"><span style="font-size:18px\;"><span style="color:#FF0000\;"><strong>This event is at capacity\, but if you would like to be added to a waiting list please call (845) 454-1700 Ext. 1000.</strong></span><br />\n<br />\nThe Chamber Foundation&#39\;s annual golf tournament in support of the Norman &amp\; Rita Nussbickel Memorial Scholarship.</span><br />\n<br />\n<strong>Gold Sponsor:</strong><br />\n<a href="http://www.nssupply.com" target="_blank"><span style="color:#0000FF\;">N &amp\; S Supply</span></a><br />\n<br />\n<strong>Hole-In-One Sponsor:</strong><br />\n<a href="https://www.hudsonbuickgmc.com/" target="_blank"><span style="color:#0000FF\;">Hudson Cadillac-Buick-GMC</span></a><br />\n<br />\n<strong>Golf Ball Sponsor:</strong><br />\n<a href="http://www.keyconstructionservices.com/" target="_blank"><span style="color:#0000FF\;">Key Construction Services</span></a><br />\n<br />\n<strong>Gift Sponsor:</strong><br />\n<a href="https://www.brandingpros.com/" target="_blank"><span style="color:#0000FF\;">Branding Pros</span></a><br />\n<br />\n<strong>Par Sponsors:</strong></span><br />\n<span style="font-size:16px\;"><a href="http://www.jgspc.com/" target="_blank"><span style="color:#0000FF\;">JGS\, CPA\, P.C.</span></a><br />\n<a href="https://pragermetis.com/" target="_blank"><span style="color:#0000FF\;">Prager Metis CPAs</span></a><br />\n<a href="https://www.qualityenv.com/" target="_blank"><span style="color:#0000FF\;">QuES&amp\;T</span></a><span style="color:#0000FF\;">\; </span><a href="https://www.rbtcpas.com/" target="_blank"><span style="color:#0000FF\;">RBT CPAs</span></a><br />\n<a href="https://www.salisburybank.com/riverside/" target="_blank"><span style="color:#0000FF\;">Riverside Bank - A Division of Salisbury Bank and Trust Company</span></a><br />\n<a href="https://www.rondoutbank.com/" target="_blank"><span style="color:#0000FF\;">Rondout Savings Bank</span></a><br />\n<a href="https://www.royalcarting.us/" target="_blank"><span style="color:#0000FF\;">Royal Carting Service Company</span></a><br />\n<a href="http://soconserv.com/" target="_blank"><span style="color:#0000FF\;">S&amp\;O Construction Services</span></a><br />\n<a href="https://www.tegfcu.com/" target="_blank"><span style="color:#0000FF\;">TEG Federal Credit Union</span></a><br />\n<a href="https://www.mahopacbank.com/" target="_blank"><span style="color:#0000FF\;">Tompkins Mahopac Bank</span></a></span></span>
LOCATION:Trump National Golf Club 178 Stormville Road Hopewell Junction
UID:e.2770.10481453
SEQUENCE:3
DTSTAMP:20260421T223621Z
URL:https://business.dcrcoc.org/events/details/2020-nussbickel-annual-golf-tournament-10481453
END:VEVENT

END:VCALENDAR
