BEGIN:VCALENDAR
VERSION:2.0
PRODID:-//ChamberMaster//Event Calendar 2.0//EN
METHOD:PUBLISH
X-PUBLISHED-TTL:P3D
REFRESH-INTERVAL:P3D
CALSCALE:GREGORIAN
BEGIN:VEVENT
DTSTART:20210217T170000Z
DTEND:20210217T180000Z
X-MICROSOFT-CDO-ALLDAYEVENT:FALSE
SUMMARY:2021 Market Outlook & 2020 Year in Review: A Virtual Lunch & Learn from Tompkins Financial Advisors
DESCRIPTION:The financial markets in the wake of COVID-19\, political changes in Washington\, and a bevy of other unforeseen events have made planning for the future challenging for many. In an effort to look back\, but think ahead\, the investment team at Tompkins Financial Advisors is hosting a virtual lunch & learn   open to the public and free to attend   to share thoughts on what transpired in 2020\, as well as give insights into what we might expect in the year to come.\n\n \n\nLog-in details will be provided upon registration\; to sign up\, or for more information\, visit: Webex Events.
X-ALT-DESC;FMTTYPE=text/html:<span style="color:black">The financial markets in the wake of COVID-19\, political changes in Washington\, and a bevy of other unforeseen events have made planning for the future challenging for many. In an effort to look back\, but think ahead\, the investment team at Tompkins Financial Advisors is hosting a virtual lunch &amp\; learn &ndash\; open to the public and free to attend &ndash\; to share thoughts on what transpired in 2020\, as well as give insights into what we might expect in the year to come.</span><br />\n&nbsp\;<br />\nLog-in details will be provided upon registration\; to sign up\, or for more information\, visit:&nbsp\;<a href="https://tompkinsfinancial.webex.com/mw3300/mywebex/default.do?nomenu=true&amp\;siteurl=tompkinsfinancial&amp\;service=6&amp\;rnd=0.7718691048340216&amp\;main_url=https%3A%2F%2Ftompkinsfinancial.webex.com%2Fec3300%2Feventcenter%2Fevent%2FeventAction.do%3FtheAction%3Ddetail%26%26%26EMK%3D4832534b0000000453dff60f12b6a91011b91f27d54fefde267aea6bf5d8e42f05ba7cba4a5da0ff%26siteurl%3Dtompkinsfinancial%26confViewID%3D184351216101237745%26encryptTicket%3DSDJTSwAAAAQuOOMUnp4y0cglRNlRLX2PzXKlQhJ3PcakjFzfY02uQA2%26"><span style="color:windowtext">Webex Events</span></a><span style="color:#4472C4">. </span>
LOCATION:
UID:e.2770.10484948
SEQUENCE:3
DTSTAMP:20260421T161714Z
URL:https://business.dcrcoc.org/events/details/2021-market-outlook-2020-year-in-review-a-virtual-lunch-learn-from-tompkins-financial-advisors-10484948
END:VEVENT

END:VCALENDAR
