BEGIN:VCALENDAR
VERSION:2.0
PRODID:-//ChamberMaster//Event Calendar 2.0//EN
METHOD:PUBLISH
X-PUBLISHED-TTL:P3D
REFRESH-INTERVAL:P3D
CALSCALE:GREGORIAN
BEGIN:VEVENT
DTSTART:20210621T123000Z
DTEND:20210621T210000Z
X-MICROSOFT-CDO-ALLDAYEVENT:FALSE
SUMMARY:2021 Nussbickel Annual Golf Tournament
DESCRIPTION:***Please call if you are interested in participating: (845) 454-1700 Ext. 1006.\n\n\n\nGolfers will enjoy breakfast\, lunch and an event reception\, in addition to all on course activities.\n\n\n\nQuestions? Please contact: chelsea@dcrcoc.org or (845) 454-1700 Ext. 1006\n\n\n\n\n\nThe Chamber Foundation's annual golf tournament in support of the Norman & Rita Nussbickel Memorial Scholarship.\n\n\n\nThank you to our Sponsors\n\n\n\nReception\n\nN & S Supply LLC\n\n\n\nGift \n\nBranding Pros\n\n\n\nBeverage Cart\n\nRiverside Bank\, a Division of Salisbury Bank and Trust Company\n\n\n\nGolf Ball\n\nKey Construction Services\, LLC\n\n\n\nHole In One\n\nHudson Cadillac Buick GMC\n\n\n\nLunch\n\nLMD Materials\n\n\n\nPar\n\nAtlasStar\, Ltd.\n\nJGS CPA\n\nPrager Metis CPAs\, LLC\n\nQuality Environmental Solutions & Technologies\, Inc. \n\nRondout Savings Bank\n\nRoyal Carting Service Company\n\nS&O Construction Services\, Inc.\n\nTompkins Mahopac Bank
X-ALT-DESC;FMTTYPE=text/html:<br />\n<span style="font-size:16px\;"><span style="font-family:times new roman\;"><span style="font-size:18px\;"><strong><span style="color:#FF0000\;">***Please call if you are interested in participating: (845) 454-1700 Ext. 1006.</span></strong></span><br />\n<br />\n<span style="color:#000000\;">Golfers will enjoy breakfast\, lunch and an event reception\, in addition to all on course activities.</span></span></span><br />\n<br />\n<span style="font-size:18px\;"><span style="font-family:times new roman\;"><span style="background:yellow\;"><span style="color:black\;"><strong>Questions? Please contact:&nbsp\;</strong></span></span><strong><span style="background:yellow\;"><span style="color:#333333\;"><a href="mailto:chelsea@dcrcoc.org"><span style="color:blue\;">chelsea@dcrcoc.org</span></a></span></span><span style="background:yellow\;"><span style="color:black\;">&nbsp\;or (845) 454-1700 Ext. 1006</span></span></strong></span></span><br />\n<br />\n<br />\n<span style="font-family:times new roman\;"><span style="font-size:16px\;"><span style="color:#000000\;"><span style="font-size:18px\;">The Chamber Foundation&#39\;s annual golf tournament in support of the Norman &amp\; Rita Nussbickel Memorial Scholarship.</span></span><br />\n<br />\n<strong><span style="font-size:20px\;">Thank you to our Sponsors</span></strong><br />\n<br />\n<em><span style="color:#000000\;"><span style="font-size:18px\;"><strong>Reception</strong></span></span></em><br />\n<span style="font-size:18px\;"><a href="https://www.nssupply.com/" target="_blank"><span style="color:#0000FF\;">N &amp\; S Supply LLC</span></a></span></span><br />\n<br />\n<strong><span style="font-size:18px\;"><em>Gift&nbsp\;</em></span></strong><br />\n<a href="https://www.brandingpros.com/" target="_blank"><span style="color:#0000FF\;"><span style="font-size:18px\;">Branding Pros</span></span></a></span><br />\n<br />\n<strong style="font-family: &quot\;times new roman&quot\;\;"><span style="font-size: 18px\;"><em>Beverage Cart</em></span></strong><br />\n<a href="https://www.salisburybank.com/about/locations/branch/NY/Poughkeepsie/poughkeepsie/" target="_blank"><span style="color:#0000FF\;"><span style="font-size:18px\;"><span style="font-family:times new roman\;">Riverside Bank\, a Division of Salisbury Bank and Trust Company</span></span></span></a><br />\n<br />\n<span style="font-family:times new roman\;"><strong><span style="font-size:18px\;"><em>Golf Ball</em></span></strong><br />\n<a href="https://www.keyconstructionservices.com/" target="_blank"><span style="color:#0000FF\;"><span style="font-size:18px\;">Key Construction Services\, LLC</span></span></a><br />\n<br />\n<strong><span style="font-size:18px\;"><em>Hole In One</em></span></strong><br />\n<a href="https://www.hudsonbuickgmc.com/" target="_blank"><span style="color:#0000FF\;"><span style="font-size:18px\;">Hudson Cadillac Buick GMC</span></span></a></span><br />\n<br />\n<strong style="font-family: &quot\;times new roman&quot\;\;"><span style="font-size: 18px\;"><em>Lunch</em></span></strong><br />\n<span style="font-size:18px\;"><a href="http://lmdmaterials.com" target="_blank"><span style="color:#0000FF\;"><span style="font-family:times new roman\;">LMD Materials</span></span></a></span><br />\n<br />\n<span style="font-family:times new roman\;"><strong><span style="font-size:18px\;"><em>Par</em></span></strong><br />\n<a href="http://www.atlastar.com/" target="_blank"><span style="color:#0000FF\;"><span style="font-size:18px\;">AtlasStar\, Ltd.</span></span></a></span><br />\n<span style="font-size:18px\;"><span style="font-family:times new roman\;"><a href="https://jgspc.com/" target="_blank"><span style="color:#0000FF\;">JGS CPA</span></a><br />\n<a href="https://pragermetis.com/" target="_blank"><span style="color:#0000FF\;">Prager Metis CPAs\, LLC</span></a><br />\n<a href="http://www.qualityenv.com/" target="_blank"><span style="color:#0000FF\;">Quality Environmental Solutions &amp\; Technologies\, Inc.&nbsp\;</span></a><br />\n<a href="https://www.rondoutbank.com/" target="_blank"><span style="color:#0000FF\;">Rondout Savings Bank</span></a><br />\n<a href="https://www.royalcarting.us/" target="_blank"><span style="color:#0000FF\;">Royal Carting Service Company</span></a><br />\n<a href="http://soconserv.com/" target="_blank"><span style="color:#0000FF\;">S&amp\;O Construction Services\, Inc.</span></a><br />\n<a href="https://www.mahopacbank.com/" target="_blank"><span style="color:#0000FF\;">Tompkins Mahopac Bank</span></a></span></span><br />\n<br />\n<br />\n&nbsp\;
LOCATION:The Links at Union Vale 153 North Parliman Road LaGrangeville
UID:e.2770.10484518
SEQUENCE:3
DTSTAMP:20260421T095449Z
URL:https://business.dcrcoc.org/events/details/2021-nussbickel-annual-golf-tournament-10484518
END:VEVENT

END:VCALENDAR
