BEGIN:VCALENDAR
VERSION:2.0
PRODID:-//ChamberMaster//Event Calendar 2.0//EN
METHOD:PUBLISH
X-PUBLISHED-TTL:P3D
REFRESH-INTERVAL:P3D
CALSCALE:GREGORIAN
BEGIN:VEVENT
DTSTART:20171201T233000Z
DTEND:20171202T011500Z
X-MICROSOFT-CDO-ALLDAYEVENT:FALSE
SUMMARY:24th annual Celebration of Lights Parade and Fireworks
DESCRIPTION:The Poughkeepsie River District Association\, in conjunction with the City of Poughkeepsie\, First Friday Poughkeepsie\, Bardavon and The Walkway over the Hudson\, will present the 24th annual Celebration of Lights Parade and Fireworks on Friday\, December 1\, 2017!\n\n\n\nAs always\, we couldn't do this event without our amazing Sponsors!\n\nA huge thank you to the following businesses:\n\n	Rhinebeck Bank\n	Dutchess Cars\n	Central Hudson Gas & Electric\n	McCabe & Mack LLP.\n	Hudson Valley Federal Credit Union\n	Torsone Funeral Parlor\n	Adams Fairacre Farms\n	Salisbury Bank\n	Walkway Over the Hudson\n	Hickey-Finn & Co.\n	Poughkeepsie PBA\n	  Red Cap Cleaners\n	EFCO Bakery Supplies\n	CR Properties\n	Prime Wealth Management\n	Doyle Funeral Home\n	A & R Security\n	Red Cap Cleaners\n	Amuty\, Demers & McManus\n	D'Arcangelo & Co.\,LLP.\n	City of Poughkeepsie Police Athletic League\n\n\n\nAbout The Poughkeepsie River District Association The Poughkeepsie River District Association formed in July 1997 to help unify and strengthen the business environment within the waterfront area in the City of Poughkeepsie. We refer to this area as the River District area of Poughkeepsie\, which is defined as the area between the Mid-Hudson Bridge and the Walkway Over the Hudson\, extending eastward to Vassar Street.
X-ALT-DESC;FMTTYPE=text/html:The Poughkeepsie River District Association\, in conjunction with the City of Poughkeepsie\, First Friday Poughkeepsie\, Bardavon and The Walkway over the Hudson\, will present the 24th annual Celebration of Lights Parade and Fireworks on Friday\, December 1\, 2017!<br />\n<br />\nAs always\, we couldn&#39\;t do this event without our amazing Sponsors!<br />\nA huge thank you to the following businesses:\n<ul>\n	<li>Rhinebeck&nbsp\;Bank</li>\n	<li>Dutchess Cars</li>\n	<li>Central Hudson Gas &amp\; Electric</li>\n	<li>McCabe &amp\; Mack LLP.</li>\n	<li>Hudson Valley Federal Credit Union</li>\n	<li>Torsone Funeral Parlor</li>\n	<li>Adams Fairacre Farms</li>\n	<li>Salisbury Bank</li>\n	<li>Walkway Over the Hudson</li>\n	<li>Hickey-Finn &amp\; Co.</li>\n	<li>Poughkeepsie PBA</li>\n	<li>&#8203\; Red Cap Cleaners</li>\n	<li>EFCO Bakery Supplies</li>\n	<li>CR Properties</li>\n	<li>Prime Wealth Management</li>\n	<li>Doyle Funeral Home</li>\n	<li>A &amp\; R Security</li>\n	<li>Red Cap Cleaners</li>\n	<li>Amuty\, Demers &amp\; McManus</li>\n	<li>D&#39\;Arcangelo &amp\; Co.\,LLP.</li>\n	<li>City of Poughkeepsie Police Athletic League</li>\n</ul>\n<br />\nAbout The Poughkeepsie River District Association The Poughkeepsie River District Association formed in July 1997 to help unify and strengthen the business environment within the waterfront area in the City of Poughkeepsie. We refer to this area as the River District area of Poughkeepsie\, which is defined as the area between the Mid-Hudson Bridge and the Walkway Over the Hudson\, extending eastward to Vassar Street.
LOCATION:The parade will kick off at 6:30pm on Main Street and Garden Street with the tree lighting occurring on Main\, near Market St. The Parade will proceed to Dongan Square Park for the second tree lighting and the count down to the anticipated Fireworks display.
UID:e.2770.10476558
SEQUENCE:3
DTSTAMP:20260426T020800Z
URL:https://business.dcrcoc.org/events/details/24th-annual-celebration-of-lights-parade-and-fireworks-10476558
END:VEVENT

END:VCALENDAR
