BEGIN:VCALENDAR
VERSION:2.0
PRODID:-//ChamberMaster//Event Calendar 2.0//EN
METHOD:PUBLISH
X-PUBLISHED-TTL:P3D
REFRESH-INTERVAL:P3D
CALSCALE:GREGORIAN
BEGIN:VEVENT
DTSTART:20190610T123000Z
DTEND:20190610T210000Z
X-MICROSOFT-CDO-ALLDAYEVENT:FALSE
SUMMARY:27th Annual Chip in to Rebuild Golf Tournament
DESCRIPTION:Held each Spring\, Rebuilding Together Dutchess County's Annual Day of Golf is a popular\, fun-filled day with laughs\, longest drives\, and plenty of mulligans. It attracts both the first time golfer as well as the seasoned "pro" and provides networking opportunities while on the green plus raffle and prizes after play. This year will be the 27th Annual Chip in to Rebuild Golf Tournament on June 10\, 2019. For more information\, go to our website: RTDutchess.org
X-ALT-DESC;FMTTYPE=text/html:Held each Spring\, Rebuilding Together Dutchess County&#39\;s Annual Day of Golf is a popular\, fun-filled day with laughs\, longest drives\, and plenty of mulligans. It attracts both the first time golfer as well as the seasoned &ldquo\;pro&rdquo\; and provides networking opportunities while on the green plus raffle and prizes after play. This year will be the 27th Annual Chip in to Rebuild Golf Tournament on June 10\, 2019. For more information\, go to our website: RTDutchess.org
LOCATION:
UID:e.2770.10479701
SEQUENCE:3
DTSTAMP:20260423T025335Z
URL:https://business.dcrcoc.org/events/details/27th-annual-chip-in-to-rebuild-golf-tournament-10479701
END:VEVENT

END:VCALENDAR
