BEGIN:VCALENDAR
VERSION:2.0
PRODID:-//ChamberMaster//Event Calendar 2.0//EN
METHOD:PUBLISH
X-PUBLISHED-TTL:P3D
REFRESH-INTERVAL:P3D
CALSCALE:GREGORIAN
BEGIN:VEVENT
DTSTART:20180706T200000Z
DTEND:20180709T000000Z
X-MICROSOFT-CDO-ALLDAYEVENT:FALSE
SUMMARY:27th Annual Hudson Valley Hot-Air Balloon Festival
DESCRIPTION:#dcrcocballoon\n\nFollow us on social media for updates all weekend!\n\nOur festival is BACK with lots of exciting things planned for the whole weekend!\n\nComplete event information at balloonfesthv.com\n\n\nSpecial Thanks To\n\nEvent Sponsors: Bottini Fuel\, LCS Facility Group\, Inc. & Q92.
X-ALT-DESC;FMTTYPE=text/html:<h1 style="text-align: center\;"><br />\n#dcrcocballoon</h1>\n\n<h3 style="text-align: center\;">Follow us on social media for updates all weekend!</h3>\n\n<h2 style="font-style: italic\; text-align: center\;"><span style="box-sizing: border-box\; font-size: 20px\;">Our festival is BACK with&nbsp\;lots of exciting things planned for the whole weekend!</span></h2>\n\n<h1 style="text-align: center\;"><strong>Complete event information at <a href="http://www.balloonfesthv.com" target="_blank">balloonfesthv.com</a></strong></h1>\n<br />\n<strong>Special Thanks To<br />\nEvent Sponsors: Bottini Fuel\, LCS Facility Group\, Inc. &amp\; Q92</strong>.
LOCATION:Dutchess County Fairgrounds 6636 Route 9 Rhinebeck NY 12572
UID:e.2770.10477641
SEQUENCE:3
DTSTAMP:20260425T155344Z
URL:https://business.dcrcoc.org/events/details/27th-annual-hudson-valley-hot-air-balloon-festival-10477641
END:VEVENT

END:VCALENDAR
