BEGIN:VCALENDAR
VERSION:2.0
PRODID:-//ChamberMaster//Event Calendar 2.0//EN
METHOD:PUBLISH
X-PUBLISHED-TTL:P3D
REFRESH-INTERVAL:P3D
CALSCALE:GREGORIAN
BEGIN:VEVENT
DTSTART:20190712T200000Z
DTEND:20190715T000000Z
X-MICROSOFT-CDO-ALLDAYEVENT:FALSE
SUMMARY:28th Annual Hudson Valley Hot-Air Balloon Festival
DESCRIPTION:#hvballoonfest\n\nFollow us on social media for updates all weekend!\n\nOur festival is BACK with lots of exciting things planned for the whole weekend!\n\nComplete event information at balloonfesthv.com
X-ALT-DESC;FMTTYPE=text/html:<h1 style="text-align: center\;"><br />\n<span style="font-size: 18px\;"><span style="font-family: times new roman\;">#hvballoonfest</span></span></h1>\n\n<h3 style="text-align: center\;"><span style="font-size: 18px\;"><span style="font-family: times new roman\;">Follow us on social media for updates all weekend!</span></span></h3>\n\n<h2 style="text-align: center\; font-style: italic\;"><span style="font-size: 18px\;"><span style="font-family: times new roman\;"><span style="box-sizing: border-box\;">Our festival is BACK with&nbsp\;lots of exciting things planned for the whole weekend!</span></span></span></h2>\n\n<h1 style="text-align: center\;"><span style="font-size: 18px\;"><span style="font-family: times new roman\;"><strong>Complete event information at <a href="https://www.dcrcoc.org/balloonfesthv.org" target="_blank">balloonfesthv.com</a></strong></span></span></h1>\n
LOCATION:Dutchess County Fairgrounds 6636 Route 9 Rhinebeck NY 12572
UID:e.2770.10479867
SEQUENCE:3
DTSTAMP:20260423T011940Z
URL:https://business.dcrcoc.org/events/details/28th-annual-hudson-valley-hot-air-balloon-festival-10479867
END:VEVENT

END:VCALENDAR
