BEGIN:VCALENDAR
VERSION:2.0
PRODID:-//ChamberMaster//Event Calendar 2.0//EN
METHOD:PUBLISH
X-PUBLISHED-TTL:P3D
REFRESH-INTERVAL:P3D
CALSCALE:GREGORIAN
BEGIN:VEVENT
DTSTART:20180421T123000Z
DTEND:20180421T160000Z
X-MICROSOFT-CDO-ALLDAYEVENT:FALSE
SUMMARY:2nd Annual Arlington Education Foundation 5K Run/Walk & Kids Runs
DESCRIPTION:Come run or walk with the Arlington Education Foundation as we raise funds for exciting STEAM (Science\, Technology\, Engineering\, Arts and Mathematics) Labs. Fun for all ages. Last year\, we had participants in every age category from 2 - 70+. Open to the entire community. Great raffles & prizes. Register by April 6th for a free event t-shirt. Online registration is now available https://register.chronotrack.com/r/35763 For additional information\, go to www.aefny.org
X-ALT-DESC;FMTTYPE=text/html:Come run or walk with the Arlington Education Foundation as we raise funds for exciting STEAM (Science\, Technology\, Engineering\, Arts and Mathematics) Labs. Fun for all ages. Last year\, we had participants in every age category from 2 - 70+. Open to the entire community. Great raffles &amp\; prizes. Register by April 6th for a free event t-shirt. Online registration is now available https://register.chronotrack.com/r/35763 For additional information\, go to www.aefny.org
LOCATION:Arlington High School Campus Route 55\, Lagrangeville\, NY
UID:e.2770.10476709
SEQUENCE:3
DTSTAMP:20260425T195146Z
URL:https://business.dcrcoc.org/events/details/2nd-annual-arlington-education-foundation-5k-run-walk-kids-runs-10476709
END:VEVENT

END:VCALENDAR
