BEGIN:VCALENDAR
VERSION:2.0
PRODID:-//ChamberMaster//Event Calendar 2.0//EN
METHOD:PUBLISH
X-PUBLISHED-TTL:P3D
REFRESH-INTERVAL:P3D
CALSCALE:GREGORIAN
BEGIN:VEVENT
DTSTART:20181004T213000Z
DTEND:20181005T003500Z
X-MICROSOFT-CDO-ALLDAYEVENT:FALSE
SUMMARY:32nd Annual Dutchess County Executive's Arts Awards
DESCRIPTION:Join the Dutchess County community to celebrate those that make this one of the most vibrant arts and cultural regions - publicly nominated awardees are recognized for their work in the following areas: Arts and Business\, Patron of the Arts Volunteer\, Individual Artist\, Arts Organization\, Art in Public Places\, Student with Exceptional Promise in the Arts\, Special Citation and "Artivist." This is the one celebratory annual event with festive food and beverage\, and a fabulous silent auction.
X-ALT-DESC;FMTTYPE=text/html:Join the Dutchess County community to celebrate those that make this one of the most vibrant arts and cultural regions - publicly nominated awardees are recognized for their work in the following areas: Arts and Business\, Patron of the Arts Volunteer\, Individual Artist\, Arts Organization\, Art in Public Places\, Student with Exceptional Promise in the Arts\, Special Citation and &quot\;Artivist.&quot\; This is the one celebratory annual event with festive food and beverage\, and a fabulous silent auction.
LOCATION:Villa Borghese - Wappingers Falls
UID:e.2770.10476606
SEQUENCE:3
DTSTAMP:20260425T114851Z
URL:https://business.dcrcoc.org/events/details/32nd-annual-dutchess-county-executive-s-arts-awards-10476606
END:VEVENT

END:VCALENDAR
