BEGIN:VCALENDAR
VERSION:2.0
PRODID:-//ChamberMaster//Event Calendar 2.0//EN
METHOD:PUBLISH
X-PUBLISHED-TTL:P3D
REFRESH-INTERVAL:P3D
CALSCALE:GREGORIAN
BEGIN:VEVENT
DTSTART:20181025T213000Z
DTEND:20181025T233000Z
X-MICROSOFT-CDO-ALLDAYEVENT:FALSE
SUMMARY:35th Anniversary Celebration- Mediation Center of Dutchess County
DESCRIPTION:Please join the Mediation Center of Dutchess County to celebrate 35 years of providing dispute resolution services to Dutchess County residents\, courts\, businesses and schools. By "Turning Conflict Into Conversation" the Mediation Center's transformative practice has enabled numerous individuals the opportunity to be heard and find resolutions that work best for them. To sponsor the event and/or attend\, please contact Program Coordinator Lucille Trachte\, (845) 471-7213 ext. 210 or ltrachte@dutchessmediation.org.
X-ALT-DESC;FMTTYPE=text/html:Please join the Mediation Center of Dutchess County to celebrate 35 years of providing dispute resolution services to Dutchess County residents\, courts\, businesses and schools. By &quot\;Turning Conflict Into Conversation&quot\; the Mediation Center&#39\;s transformative practice has enabled numerous individuals the opportunity to be heard and find resolutions that work best for them. To sponsor the event and/or attend\, please contact Program Coordinator Lucille Trachte\, (845) 471-7213 ext. 210 or ltrachte@dutchessmediation.org.
LOCATION:Locust Grove Estate\, 2683 South Rd\, Poughkeepsie\, NY 12601
UID:e.2770.10479461
SEQUENCE:3
DTSTAMP:20260425T115250Z
URL:https://business.dcrcoc.org/events/details/35th-anniversary-celebration-mediation-center-of-dutchess-county-10479461
END:VEVENT

END:VCALENDAR
