BEGIN:VCALENDAR
VERSION:2.0
PRODID:-//ChamberMaster//Event Calendar 2.0//EN
METHOD:PUBLISH
X-PUBLISHED-TTL:P3D
REFRESH-INTERVAL:P3D
CALSCALE:GREGORIAN
BEGIN:VEVENT
DTSTART:20171112T150000Z
DTEND:20171112T200000Z
X-MICROSOFT-CDO-ALLDAYEVENT:FALSE
SUMMARY:46th Annual Train & Hobby Show
DESCRIPTION:46th Annual Train & Hobby Show Sunday\, November 12\, 2017 10:00am 3:00pm Don't Miss This One! Bring The Family! 20\,000 Square Feet of:   Operating Layouts   Railroadiana   Model Exhibits   Modular Layouts   Railroad Clinics   Dealer Tables   Modeling Demonstrations   Railroad Movies   White Elephant Table   Refreshments on Premises Convenient to Amtrak/Metro North Trains and Bus Services This Event Sponsored By The Hudson Valley Railroad Society. All Proceeds go to the Hyde Park Railroad Station\, a National Historic Site. Further Information: (845) 297-0901 Admission: $5.00\; Children under 12: $2.00
X-ALT-DESC;FMTTYPE=text/html:46th Annual Train &amp\; Hobby Show Sunday\, November 12\, 2017 10:00am&ndash\;3:00pm Don&#39\;t Miss This One! Bring The Family! 20\,000 Square Feet of: &bull\; Operating Layouts &bull\; Railroadiana &bull\; Model Exhibits &bull\; Modular Layouts &bull\; Railroad Clinics &bull\; Dealer Tables &bull\; Modeling Demonstrations &bull\; Railroad Movies &bull\; White Elephant Table &bull\; Refreshments on Premises Convenient to Amtrak/Metro North Trains and Bus Services This Event Sponsored By The Hudson Valley Railroad Society. All Proceeds go to the Hyde Park Railroad Station\, a National Historic Site. Further Information: (845) 297-0901 Admission: $5.00\; Children under 12: $2.00
LOCATION:Mid-Hudson Civic Center 14 Civic Center Plaza Poughkeepsie\, NY 12601
UID:e.2770.10476403
SEQUENCE:3
DTSTAMP:20260426T020447Z
URL:https://business.dcrcoc.org/events/details/46th-annual-train-hobby-show-10476403
END:VEVENT

END:VCALENDAR
