BEGIN:VCALENDAR
VERSION:2.0
PRODID:-//ChamberMaster//Event Calendar 2.0//EN
METHOD:PUBLISH
X-PUBLISHED-TTL:P3D
REFRESH-INTERVAL:P3D
CALSCALE:GREGORIAN
BEGIN:VEVENT
DTSTART:20181111T150000Z
DTEND:20181111T200000Z
X-MICROSOFT-CDO-ALLDAYEVENT:FALSE
SUMMARY:47th Annual Train & Hobby Show - Mid-Hudson Civic Center
DESCRIPTION:Don't miss this one! Bring the family!20\,000 Square Feet of:   Operating Layouts   Railroadiana   Model Exhibits   Modular Layouts   Railroad Clinics   Slot Cars   Die Casts   Modes   R/C   Modeling Demonstrations   White Elephant Table   Refreshments on Premises This Event Sponsored By The Hudson Valley Railroad Society. All Proceeds to the Hyde Park Railroad Station\, a National Historic Site. Admission: Tickets can be purchased the day of the event. 12 & up\; $6.00\, 11 & Under\; $3.00.
X-ALT-DESC;FMTTYPE=text/html:Don&#39\;t miss this one! Bring the family!20\,000 Square Feet of: &bull\; Operating Layouts &bull\; Railroadiana &bull\; Model Exhibits &bull\; Modular Layouts &bull\; Railroad Clinics &bull\; Slot Cars &bull\; Die Casts &bull\; Modes &bull\; R/C &bull\; Modeling Demonstrations &bull\; White Elephant Table &bull\; Refreshments on Premises This Event Sponsored By The Hudson Valley Railroad Society. All Proceeds to the Hyde Park Railroad Station\, a National Historic Site. Admission: Tickets can be purchased the day of the event. 12 &amp\; up\; $6.00\, 11 &amp\; Under\; $3.00.
LOCATION:Mid Hudson Civic Center 14 Civic Center Plaza Poughkeepsie\, NY 12601
UID:e.2770.10479741
SEQUENCE:3
DTSTAMP:20260425T115052Z
URL:https://business.dcrcoc.org/events/details/47th-annual-train-hobby-show-mid-hudson-civic-center-10479741
END:VEVENT

END:VCALENDAR
