BEGIN:VCALENDAR
VERSION:2.0
PRODID:-//ChamberMaster//Event Calendar 2.0//EN
METHOD:PUBLISH
X-PUBLISHED-TTL:P3D
REFRESH-INTERVAL:P3D
CALSCALE:GREGORIAN
BEGIN:VEVENT
DTSTART:20190511T133000Z
DTEND:20190511T203000Z
X-MICROSOFT-CDO-ALLDAYEVENT:FALSE
SUMMARY:4th Annual Leap for Autism
DESCRIPTION:Leap for Autism! Our annual event raises awareness and funds for vital services offered by Greystone Programs where no funding exists. These programs include a range of therapeutic expressive arts: music\, dance\, equine\, art therapies and other services.\n\n\n\nJoin us in the air or on the ground! Whether a tandem or virtual skydiver\, take to the sky for an exhilarating adventure of a lifetime while giving back to a great cause. \n\n\n\nThe event has fun\, festivities\, and freefall! Something for all! Enjoy delicious barbeque offerings from the Grille Wagon and toast your post leap success with hard cider from Angry Orchard!\n\n\n\nYour contribution will support Greystone Programs' expressive arts programs and other services that support our mission to enrich lives one person at a time. \n\n\n\nRain Date: May 11\, 2019
X-ALT-DESC;FMTTYPE=text/html:<span style="color:rgb(29\, 33\, 41)\; font-family:helvetica\,arial\,sans-serif\; font-size:14px">Leap for Autism! Our annual event raises awareness and funds for vital services offered by Greystone Programs where no funding exists. These programs include a range of therapeutic expressive arts: music\, dance\, equine\, art therapies and other services.</span><br />\n<br />\n<span style="color:rgb(29\, 33\, 41)\; font-family:helvetica\,arial\,sans-serif\; font-size:14px">Join us in the air or on the ground! Whether a tandem or virtual skydiver\, take to the sky for an exhilarating adventure of a lifetime while giving back to a great cause. </span><br />\n<br />\n<span style="color:rgb(29\, 33\, 41)\; font-family:helvetica\,arial\,sans-serif\; font-size:14px">The event has fun\, festivities\, and freefall! Something for all! Enjoy delicious barbeque offerings from the Grille Wagon and toast your post leap success with hard cider from Angry Orchard!</span><br />\n<br />\n<span style="color:rgb(29\, 33\, 41)\; font-family:helvetica\,arial\,sans-serif\; font-size:14px">Your contribution will support Greystone Programs&#39\; expressive arts programs and other services that support our mission to enrich lives one person at a time. </span><br />\n<br />\n<span style="color:rgb(29\, 33\, 41)\; font-family:helvetica\,arial\,sans-serif\; font-size:14px">Rain Date: May 11\, 2019</span>
LOCATION:Skydive the Ranch 55 Sand Hill Rd\, Gardiner\, NY 12525
UID:e.2770.10480487
SEQUENCE:3
DTSTAMP:20260423T044447Z
URL:https://business.dcrcoc.org/events/details/4th-annual-leap-for-autism-10480487
END:VEVENT

END:VCALENDAR
