BEGIN:VCALENDAR
VERSION:2.0
PRODID:-//ChamberMaster//Event Calendar 2.0//EN
METHOD:PUBLISH
X-PUBLISHED-TTL:P3D
REFRESH-INTERVAL:P3D
CALSCALE:GREGORIAN
BEGIN:VEVENT
DTSTART:20180617T170000Z
DTEND:20180617T210000Z
X-MICROSOFT-CDO-ALLDAYEVENT:FALSE
SUMMARY:4th Annual Poughkeepsie Open Studios
DESCRIPTION:Poughkeepsie Open Studios is a free\, self-guided tour of the Poughkeepsie\, New York area.\n\n\n\nVisit private working artist studios\, temporary "pop-up" artist spaces and gallery exhibits\, nestled in and around the historic buildings of our City.  Plan adequate time for some poetry\, literature\, history\, food\, historical tours\, artistic demonstrations and public participation activities. This is an opportunity to interact personally with artists who live\, work\, or teach in our area\, and to find out more about their inspirations\, their creative processes\, and the types of media they employ. While in the area\, take time to experience the rich history and the broad cultural diversity of our community.\n\n\n\nPoughkeepsie Open Studios is hosted by the Barrett Art Center\, home of the Dutchess County Art Association\, a 501(c)(3) organization dedicated to fostering an appreciation of arts in the Mid-Hudson valley through exhibitions\, lectures\, workshops\, and demonstrations. This event is produced by an all-volunteer committee\, partnering with our local artists\, arts organizations\, art galleries\, and businesses.\n\n\n\nFollow us on social media to keep in touch as further event information unfolds!
X-ALT-DESC;FMTTYPE=text/html:<strong>Poughkeepsie Open Studios&nbsp\;is&nbsp\;a free\, self-guided tour of the Poughkeepsie\, New York area.</strong><br />\n<br />\nVisit private working artist studios\, temporary &quot\;pop-up&quot\; artist spaces&nbsp\;and gallery exhibits\, nestled in and around the historic buildings of our City. &nbsp\;Plan adequate time for some poetry\, literature\, history\, food\, historical tours\, artistic demonstrations and public participation activities.&nbsp\;This is an opportunity to&nbsp\;interact personally with artists who live\, work\, or teach in our area\, and&nbsp\;to find out more&nbsp\;about their inspirations\, their&nbsp\;creative processes\, and the types of media they employ. While in the area\, take time to&nbsp\;experience the rich history and the broad cultural diversity of our community.<br />\n<br />\nPoughkeepsie Open Studios is hosted by the&nbsp\;<a href="http://barrettartcenter.org/" target="_blank">Barrett Art Center</a>\, home of the Dutchess County Art Association\, a 501(c)(3) organization dedicated to fostering an appreciation of&nbsp\;arts in the Mid-Hudson valley through exhibitions\, lectures\, workshops\, and&nbsp\;demonstrations. This event is produced by an all-volunteer committee\, partnering with our local artists\, arts organizations\, art galleries\, and businesses.<br />\n<br />\n<strong>Follow us on social media to keep in touch as further event information unfolds!</strong><br />\n&nbsp\;
LOCATION:There will be various events going on at various locations around the City of Poughkeepsie! Please see check out our website for an updates map/calendar of events.
UID:e.2770.10477777
SEQUENCE:3
DTSTAMP:20260425T165813Z
URL:https://business.dcrcoc.org/events/details/4th-annual-poughkeepsie-open-studios-06-17-2018-10477777
END:VEVENT

END:VCALENDAR
