BEGIN:VCALENDAR
VERSION:2.0
PRODID:-//ChamberMaster//Event Calendar 2.0//EN
METHOD:PUBLISH
X-PUBLISHED-TTL:P3D
REFRESH-INTERVAL:P3D
CALSCALE:GREGORIAN
BEGIN:VEVENT
DTSTART:20190402T200000Z
DTEND:20190403T010000Z
X-MICROSOFT-CDO-ALLDAYEVENT:FALSE
SUMMARY:5 Hour Pre-Licensing Course
DESCRIPTION:The 5 Hour Class is a Classroom Course which consists group activities\, lecture and driver training films.\n\nRequired by New York State Dept. of Motor Vehicles course must be completed before one can schedule a road test appointment.\n\nPlease give us a call to enroll at (845)226-6700.
X-ALT-DESC;FMTTYPE=text/html:<div style="text-align: center\;"><span style="font-size: 12px\;"><span style="color: rgb(0\, 0\, 0)\;">The 5 Hour Class is a Classroom Course which consists group activities\, lecture and driver training films.</span></span></div>\n\n<div style="text-align: center\;"><span style="font-size: 12px\;"><span style="color: rgb(0\, 0\, 0)\;">Required by New York State Dept. of Motor Vehicles course must be completed before one can schedule a road test appointment.</span></span></div>\n\n<div style="text-align: center\;"><span style="font-size: 12px\;">Please give us a call to enroll at (845)226-6700.</span><span style="font-family: arial\,helvetica\,sans-serif\;"> </span></div>\n\n<p style="text-align: center\;">&nbsp\;</p>\n
LOCATION:Dutchess School of Driving 655 Route 82 Hopewell Junction\, NY 12533
UID:e.2770.10480578
SEQUENCE:3
DTSTAMP:20260423T062159Z
URL:https://business.dcrcoc.org/events/details/5-hour-pre-licensing-course-10480578
END:VEVENT

END:VCALENDAR
