BEGIN:VCALENDAR
VERSION:2.0
PRODID:-//ChamberMaster//Event Calendar 2.0//EN
METHOD:PUBLISH
X-PUBLISHED-TTL:P3D
REFRESH-INTERVAL:P3D
CALSCALE:GREGORIAN
BEGIN:VEVENT
DTSTART:20190228T223000Z
DTEND:20190301T003000Z
X-MICROSOFT-CDO-ALLDAYEVENT:FALSE
SUMMARY:5th Annual Do Blue Bash for Colon Cancer Awreness
DESCRIPTION:Help us Kick off Colon Cancer Awareness Month with a cocktail style event at Canvas on Main Street in Poughkeepsie! Enjoy hearty hors d'oeuvres and a cash bar! $5 suggested donation at the door to benefit the Digestive Disease Community Fund to help provide screenings to the underserved in our community. Don't forget to wear Blue. Joe Daily of Q-92 Lite FM will be your host for the evening! Sponsored by Hudson Valley Cancer Center and BrainTree Laboratories\, a part of Sebela Pharmaceuticals
X-ALT-DESC;FMTTYPE=text/html:Help us Kick off Colon Cancer Awareness Month with a cocktail style event at Canvas on Main Street in Poughkeepsie! Enjoy hearty hors d&#39\;oeuvres and a cash bar! $5 suggested donation at the door to benefit the Digestive Disease Community Fund to help provide screenings to the underserved in our community. Don&#39\;t forget to wear Blue. Joe Daily of Q-92 Lite FM will be your host for the evening! Sponsored by Hudson Valley Cancer Center and BrainTree Laboratories\, a part of Sebela Pharmaceuticals
LOCATION:Canvas 305 Main St. Poughkeepsie
UID:e.2770.10480495
SEQUENCE:3
DTSTAMP:20260423T112611Z
URL:https://business.dcrcoc.org/events/details/5th-annual-do-blue-bash-for-colon-cancer-awreness-10480495
END:VEVENT

END:VCALENDAR
