BEGIN:VCALENDAR
VERSION:2.0
PRODID:-//ChamberMaster//Event Calendar 2.0//EN
METHOD:PUBLISH
X-PUBLISHED-TTL:P3D
REFRESH-INTERVAL:P3D
CALSCALE:GREGORIAN
BEGIN:VEVENT
DTSTART:20171012T160000Z
DTEND:20171012T220000Z
X-MICROSOFT-CDO-ALLDAYEVENT:FALSE
SUMMARY:5th Annual Hudson Valley Beer\, Wine\, Spirits & Cider Summit
DESCRIPTION:Join hundreds of craft beverage company owners\, regional business leaders and industry related executives at the 5th annual Hudson Valley Beer\, Wine\, Spirits & Cider Summit presented by the Hudson Valley Economic Development Corporation's Hudson Valley Food & Beverage Alliance and hosted by The Culinary Institute of America. As part of this award-winning event   the largest of its kind in New York State   the Alliance will welcome established and aspiring entrepreneurs to focus on their challenges and capitalize on growth opportunities in an industry\, which has created a $27 billion economic impact here in New York. From interactive panels with industry experts to world-renown keynote speakers to the Thirst & Vine Tasting Area\, the Summit has become the must go-to educational event for those in the craft beverage industry or thinking about entering the business.
X-ALT-DESC;FMTTYPE=text/html:Join hundreds of craft beverage company owners\, regional business leaders and industry related executives at the 5th annual Hudson Valley Beer\, Wine\, Spirits &amp\; Cider Summit presented by the Hudson Valley Economic Development Corporation&rsquo\;s Hudson Valley Food &amp\; Beverage Alliance and hosted by The Culinary Institute of America. As part of this award-winning event &ndash\; the largest of its kind in New York State &ndash\; the Alliance will welcome established and aspiring entrepreneurs to focus on their challenges and capitalize on growth opportunities in an industry\, which has created a $27 billion economic impact here in New York. From interactive panels with industry experts to world-renown keynote speakers to the Thirst &amp\; Vine Tasting Area\, the Summit has become the must go-to educational event for those in the craft beverage industry or thinking about entering the business.
LOCATION:The Culinary Institute of America Marriott Pavilion 1946 Campus Drive (US Route 9) Hyde Park\, NY 12538
UID:e.2770.10476306
SEQUENCE:3
DTSTAMP:20260426T033436Z
URL:https://business.dcrcoc.org/events/details/5th-annual-hudson-valley-beer-wine-spirits-cider-summit-10476306
END:VEVENT

END:VCALENDAR
