BEGIN:VCALENDAR
VERSION:2.0
PRODID:-//ChamberMaster//Event Calendar 2.0//EN
METHOD:PUBLISH
X-PUBLISHED-TTL:P3D
REFRESH-INTERVAL:P3D
CALSCALE:GREGORIAN
BEGIN:VEVENT
DTSTART:20180505T150000Z
DTEND:20180505T200000Z
X-MICROSOFT-CDO-ALLDAYEVENT:FALSE
SUMMARY:5th Annual Spring Faire!
DESCRIPTION:Join us for our 5th Annual Spring Faire featuring crafts\, games\, food\, live music maypole dancing and more! Fun for the whole family.
X-ALT-DESC;FMTTYPE=text/html:Join us for our 5th Annual Spring Faire featuring crafts\, games\, food\, live music maypole dancing and more! Fun for the whole family.
LOCATION:Primrose Hill School
UID:e.2770.10477628
SEQUENCE:3
DTSTAMP:20260425T181743Z
URL:https://business.dcrcoc.org/events/details/5th-annual-spring-faire-10477628
END:VEVENT

END:VCALENDAR
