BEGIN:VCALENDAR
VERSION:2.0
PRODID:-//ChamberMaster//Event Calendar 2.0//EN
METHOD:PUBLISH
X-PUBLISHED-TTL:P3D
REFRESH-INTERVAL:P3D
CALSCALE:GREGORIAN
BEGIN:VEVENT
DTSTART:20190912T220000Z
DTEND:20190913T010000Z
X-MICROSOFT-CDO-ALLDAYEVENT:FALSE
SUMMARY:60 Hour Entrepreneurial Training Program Fall 2019 Mid-Hudson
DESCRIPTION:If you have an idea for a business\, some experience in the field\, or have started a business\, then this course is right for you. It helps all entrepreneurs get focused\, set agendas\, and take the next step to move their businesses forward. Attending the course is just the beginning of your journey.  WEDC's premier 60 Hour business plan course will guide you through creating your road map for success and setting you on a path for growth.  In fact\, 60 hour class attendees have a better chance of loan approval to start or grow their business.  Completing this course means that you have an understanding of how to run a business as well as higher probability of success than someone who has not received training. \n\n \n\nTopics covered include finance\, marketing\, operations\, legal issues\, success planning\, and much more.
X-ALT-DESC;FMTTYPE=text/html:<p><span style="font-size:16px">If you have an idea for a business\, some experience in the field\, or have started a business\, then this course is right for you. It helps all entrepreneurs get focused\, set agendas\, and take the next step to move their businesses forward. Attending the course is just the beginning of your journey.&nbsp\; WEDC&rsquo\;s premier 60 Hour business plan course will guide you through creating your road map for success and setting you on a path for growth.&nbsp\;&nbsp\;<em><strong>In fact\, 60 hour class attendees have a better chance of loan approval to start or grow their business.&nbsp\;&nbsp\;</strong></em>Completing this course means that you have an understanding of how to run a business as well as higher probability of success than someone who has not received training.&nbsp\;</span><br />\n&nbsp\;</p>\n\n<p><span style="font-size:16px">Topics covered include finance\, marketing\, operations\, legal issues\, success planning\, and much more.</span></p>\n
LOCATION:SUNY Orange Newburgh Campus One Washington Center Newburgh\, NY 12550
UID:e.2770.10480827
SEQUENCE:3
DTSTAMP:20260422T215407Z
URL:https://business.dcrcoc.org/events/details/60-hour-entrepreneurial-training-program-fall-2019-mid-hudson-10480827
END:VEVENT

END:VCALENDAR
