BEGIN:VCALENDAR
VERSION:2.0
PRODID:-//ChamberMaster//Event Calendar 2.0//EN
METHOD:PUBLISH
X-PUBLISHED-TTL:P3D
REFRESH-INTERVAL:P3D
CALSCALE:GREGORIAN
BEGIN:VEVENT
DTSTART:20190213T230000Z
DTEND:20190214T020000Z
X-MICROSOFT-CDO-ALLDAYEVENT:FALSE
SUMMARY:60 Hour Entrepreneurial Training Program - Spring 2019
DESCRIPTION:If you have an idea for a business\, some experience in the field\, or have started a business\, then this course is right for you. It helps all entrepreneurs get focused\, set agendas\, and take the next step to move their businesses forward. \n\n\n\nAttending the course is just the beginning of your journey!\n\n\n\nThis 60+ hour comprehensive business training program course teaches you how to write a business plan\, which all small business owners should have to serve as their road map to a successful business. Participants in the program will learn the basic concepts of owning and operating a small business.\n\n\n\nIn fact\, 60 hour class attendees have a better chance of loan approval to start or grow their business. Completing this course means that you have an understanding of how to run a business as well as higher probability of success than someone who has not received training. \n\n\n\nAll of this for only $300.00. Must sign up for the entire Semester.
X-ALT-DESC;FMTTYPE=text/html:<p><span style="font-size:16px"><span style="background-color:rgb(255\, 255\, 255)\; color:rgb(29\, 33\, 41)\; font-family:helvetica\,arial\,sans-serif">If you have an idea for a business\, some experience in the field\, or have started a business\, then this course is right for you. It helps all entrepreneurs get focused\, set agendas\, and take the next step to move their businesses forward.&nbsp\;</span><br />\n<br />\n<span style="background-color:rgb(255\, 255\, 255)\; color:rgb(29\, 33\, 41)\; font-family:helvetica\,arial\,sans-serif">Attending the course is just the beginning of your journey!</span><br />\n<br />\n<span style="background-color:rgb(255\, 255\, 255)\; color:rgb(29\, 33\, 41)\; font-family:helvetica\,arial\,sans-serif">This 60+ hour comprehensive business training program course teaches you how to write a business plan\, which all small business owners should have to serve as their road map to a successful business. Participants in the program will learn the basic concepts of owning and operating a small business.</span><br />\n<br />\n<span style="background-color:rgb(255\, 255\, 255)\; color:rgb(29\, 33\, 41)\; font-family:helvetica\,arial\,sans-serif">In fact\, 60 hour class attendees have a better chance of loan approval to start or grow their business. Completing this course means that you have an understanding of how to run a business as well as higher probability of success than someone who has not received training.&nbsp\;</span><br />\n<br />\n<span style="background-color:rgb(255\, 255\, 255)\; color:rgb(29\, 33\, 41)\; font-family:helvetica\,arial\,sans-serif">All of this for only $300.00. Must sign up for the entire Semester.</span></span></p>\n
LOCATION:Dutchess Community College 53 Pendell - Bowne Hall Poughkeepsie\, NY 12601
UID:e.2770.10479813
SEQUENCE:3
DTSTAMP:20260423T095403Z
URL:https://business.dcrcoc.org/events/details/60-hour-entrepreneurial-training-program-spring-2019-10479813
END:VEVENT

END:VCALENDAR
