BEGIN:VCALENDAR
VERSION:2.0
PRODID:-//ChamberMaster//Event Calendar 2.0//EN
METHOD:PUBLISH
X-PUBLISHED-TTL:P3D
REFRESH-INTERVAL:P3D
CALSCALE:GREGORIAN
BEGIN:VEVENT
DTSTART:20180325T160000Z
DTEND:20180325T190000Z
X-MICROSOFT-CDO-ALLDAYEVENT:FALSE
SUMMARY:7th Annual 'Challenge Your Colon' Chili Festival
DESCRIPTION:This family-friendly event hosts local restaurants serving up tasting portions of their prize chili recipes and other specialties such as cheeses\, ice cream\, cornbread and desserts. Both meat and vegetarian chili are featured!\n\n\n\nAdults can enjoy tasting portions of wine and beer from local establishments\, while "pasta tastings"\, games\, and activities are available for the children.\n\n\n\nEvent will feature chili and chocolate chip cookie contests!\n\n\n\nColon cancer is one of the most curable types of cancer\, if diagnosed in the early stages. In many cases\, colon cancer can be prevented with proper screening and the removal of polyps detected in colonoscopies. Colon cancer is the second most common cancer in the United States. Nearly 150\,000 cases are detected yearly and approximately 50\,000 people die each year from colon cancer. The mission of Premier Cares Foundation is to provide support\, awareness\, education and treatment to those individuals in the community with digestive and urologic diseases.\n\n\n\nMoney raised at the Chili Festival supports local charities to offer services for patients with gastrointestinal diseases including colorectal cancer.
X-ALT-DESC;FMTTYPE=text/html:<span style="color:rgb(75\, 79\, 86)\; font-family:helvetica neue\,helvetica\,arial\,sans-serif\; font-size:14px">This family-friendly event hosts local restaurants serving up tasting portions of their prize chili recipes and other specialties such as cheeses\, ice cream\, cornbread and desserts. Both meat and vegetarian chili are featured!</span><br />\n<br />\n<span style="color:rgb(75\, 79\, 86)\; font-family:helvetica neue\,helvetica\,arial\,sans-serif\; font-size:14px">Adults can enjoy tasting portions of wine and beer from local establishments\, while &ldquo\;pasta tastings&rdquo\;\, games\, and activities are available for the children.</span><br />\n<br />\n<span style="color:rgb(75\, 79\, 86)\; font-family:helvetica neue\,helvetica\,arial\,sans-serif\; font-size:14px">Event will feature chili and chocolate chip cookie contests!</span><br />\n<br />\n<span style="color:rgb(75\, 79\, 86)\; font-family:helvetica neue\,helvetica\,arial\,sans-serif\; font-size:14px">Colon cancer is one of the most curable types of cancer\, if diagnosed in the early stages. In many cases\, colon cancer can be prevented with proper screening and the removal of polyps detected in colonoscopies. Colon cancer is the second most common cancer in the United States. Nearly 150\,000 cases are detected yearly and approximately 50\,000 people die each year from colon cancer. The mission of Premier Cares Foundation is to provide support\, awareness\, education and treatment to those individuals in the community with digestive and urologic diseases.</span><br />\n<br />\n<span style="color:rgb(75\, 79\, 86)\; font-family:helvetica neue\,helvetica\,arial\,sans-serif\; font-size:14px">Money raised at the Chili Festival supports local charities to offer services for patients with gastrointestinal diseases including colorectal cancer.</span><br />\n&nbsp\;\n<div>&nbsp\;\n<div>\n<p>&nbsp\;</p>\n\n<p>&nbsp\;</p>\n</div>\n</div>\n
LOCATION:Villa Borghese\, Wappingers Falls
UID:e.2770.10476786
SEQUENCE:3
DTSTAMP:20260425T210615Z
URL:https://business.dcrcoc.org/events/details/7th-annual-challenge-your-colon-chili-festival-10476786
END:VEVENT

END:VCALENDAR
