BEGIN:VCALENDAR
VERSION:2.0
PRODID:-//ChamberMaster//Event Calendar 2.0//EN
METHOD:PUBLISH
X-PUBLISHED-TTL:P3D
REFRESH-INTERVAL:P3D
CALSCALE:GREGORIAN
BEGIN:VEVENT
DTSTART:20171116T163000Z
DTEND:20171116T190000Z
X-MICROSOFT-CDO-ALLDAYEVENT:FALSE
SUMMARY:914INC.’s Women in Business Luncheon
DESCRIPTION:914INC. will host its annual Women in Business Luncheon\, to be held in conjunction with the magazine's Q4 issue\, showcasing leading area businesswomen
X-ALT-DESC;FMTTYPE=text/html:914INC. will host its annual Women in Business Luncheon\, to be held in conjunction with the magazine&rsquo\;s Q4 issue\, showcasing leading area businesswomen
LOCATION:DoubleTree by Hilton 455 S Broadway\, Tarrytown\, NY 10591
UID:e.2770.10475714
SEQUENCE:3
DTSTAMP:20260426T020934Z
URL:https://business.dcrcoc.org/events/details/914inc-s-women-in-business-luncheon-10475714
END:VEVENT

END:VCALENDAR
