BEGIN:VCALENDAR
VERSION:2.0
PRODID:-//ChamberMaster//Event Calendar 2.0//EN
METHOD:PUBLISH
X-PUBLISHED-TTL:P3D
REFRESH-INTERVAL:P3D
CALSCALE:GREGORIAN
BEGIN:VEVENT
DTSTART:20190623T233000Z
DTEND:20190624T033000Z
X-MICROSOFT-CDO-ALLDAYEVENT:FALSE
SUMMARY:A Day To Remember – Raisin’ Hell In The Heartland Tour
DESCRIPTION:Over the course of the past several years\, each of A Day To Remember's releases have hit No. 1 on Billboard's Rock\, Indie and/or Alternative Charts. They've also sold more than a million units\, racked up over 400 million Spotify streams and 500 million YouTube views\, garnered two gold-selling albums and singles (and one silver album in the UK) and sold out entire continental tours (including their own curated Self Help Festival)\, amassing a global fanbase whose members number in the millions. All of which explains why Rolling Stone called them "An Artist You Need to Know." In other words\, their creative process has worked and worked well. Sale Dates and Times: Public Onsale : Fri\, 1 Mar 2019 at 10:00 AM Artist Presale : Mon\, 25 Feb 2019 at 03:00 PM Local Presale : Thu\, 28 Feb 2019 at 10:00 AM
X-ALT-DESC;FMTTYPE=text/html:Over the course of the past several years\, each of A Day To Remember&#39\;s releases have hit No. 1 on Billboard&#39\;s Rock\, Indie and/or Alternative Charts. They&#39\;ve also sold more than a million units\, racked up over 400 million Spotify streams and 500 million YouTube views\, garnered two gold-selling albums and singles (and one silver album in the UK) and sold out entire continental tours (including their own curated Self Help Festival)\, amassing a global fanbase whose members number in the millions. All of which explains why Rolling Stone called them &quot\;An Artist You Need to Know.&quot\; In other words\, their creative process has worked and worked well. Sale Dates and Times: Public Onsale : Fri\, 1 Mar 2019 at 10:00 AM Artist Presale : Mon\, 25 Feb 2019 at 03:00 PM Local Presale : Thu\, 28 Feb 2019 at 10:00 AM
LOCATION:MJN - Majed J. Nesheiwat Convention Center 14 Civic Center Plz\, Poughkeepsie\, New York 12601
UID:e.2770.10480537
SEQUENCE:3
DTSTAMP:20260423T025313Z
URL:https://business.dcrcoc.org/events/details/a-day-to-remember-raisin-hell-in-the-heartland-tour-10480537
END:VEVENT

END:VCALENDAR
