BEGIN:VCALENDAR
VERSION:2.0
PRODID:-//ChamberMaster//Event Calendar 2.0//EN
METHOD:PUBLISH
X-PUBLISHED-TTL:P3D
REFRESH-INTERVAL:P3D
CALSCALE:GREGORIAN
BEGIN:VEVENT
DTSTART:20181019T123000Z
DTEND:20181019T153000Z
X-MICROSOFT-CDO-ALLDAYEVENT:FALSE
SUMMARY:A Global Lens on Addiction - Policy & Prevention Summit with CAPE & MHRCoP
DESCRIPTION:Join us for this special 4th annual summit\, where this year's theme is "Connecting the Dots: Addiction\, Chronic Disease\, and Population Health." We welcome prevention and treatment providers\, recovery coaches and advocates\, public health practitioners\, health care professionals\, community coalitions\, policymakers\, and concerned citizens to come be part of the solution. See website for schedule\, panel topics\, and panel speakers. This event is organized by the Council on Addiction Prevention and Education of Dutchess County\, Inc. and the Mid-Hudson Regional Community of Practice. RSVP required to kknauss@capedc.org
X-ALT-DESC;FMTTYPE=text/html:Join us for this special 4th annual summit\, where this year&#39\;s theme is &quot\;Connecting the Dots: Addiction\, Chronic Disease\, and Population Health.&quot\; We welcome prevention and treatment providers\, recovery coaches and advocates\, public health practitioners\, health care professionals\, community coalitions\, policymakers\, and concerned citizens to come be part of the solution. See website for schedule\, panel topics\, and panel speakers. This event is organized by the Council on Addiction Prevention and Education of Dutchess County\, Inc. and the Mid-Hudson Regional Community of Practice. RSVP required to kknauss@capedc.org
LOCATION:Villa Borghese\, 70 Widmer Road\, Wappingers Falls\, NY 12590
UID:e.2770.10479808
SEQUENCE:3
DTSTAMP:20260425T115251Z
URL:https://business.dcrcoc.org/events/details/a-global-lens-on-addiction-policy-prevention-summit-with-cape-mhrcop-10479808
END:VEVENT

END:VCALENDAR
