BEGIN:VCALENDAR
VERSION:2.0
PRODID:-//ChamberMaster//Event Calendar 2.0//EN
METHOD:PUBLISH
X-PUBLISHED-TTL:P3D
REFRESH-INTERVAL:P3D
CALSCALE:GREGORIAN
BEGIN:VEVENT
DTSTART:20171027T220000Z
DTEND:20171028T020000Z
X-MICROSOFT-CDO-ALLDAYEVENT:FALSE
SUMMARY:ABILITIES FIRST 2017 SIGNATURE EVENT
DESCRIPTION:An evening with Abilities First will be like no other event in the Hudson Valley. Your evening begins with cocktails and hors d'oeuvres as we toast the 2017 Abilities First Honorees. The newly renovated Shadows on the Hudson with a dash of sophisticated Tuscan elegance sets the stage for an evening filled with memorable interactive entertainment experiences followed by the juxtaposition of a rousing nightclub atmosphere with live music from the 11-piece band SOULSYSTEM ORCHESTRAS. Savor the progressive dining experience\, indulge in tastings from regional spirits\, and take in the waterfront view from our cigar lounge. Proceeds will benefit the programs and services of Abilities First\, a 501(c)(3) nonprofit organization serving over 1\,400 children and adults with intellectual and developmental disabilities throughout the Hudson Valley. A portion of the event fee is tax-deductible to the extent allowed by law.
X-ALT-DESC;FMTTYPE=text/html:An evening with Abilities First will be like no other event in the Hudson Valley. Your evening begins with cocktails and hors d&#39\;oeuvres as we toast the 2017 Abilities First Honorees. The newly renovated Shadows on the Hudson with a dash of sophisticated Tuscan elegance sets the stage for an evening filled with memorable interactive entertainment experiences followed by the juxtaposition of a rousing nightclub atmosphere with live music from the 11-piece band SOULSYSTEM ORCHESTRAS. Savor the progressive dining experience\, indulge in tastings from regional spirits\, and take in the waterfront view from our cigar lounge. Proceeds will benefit the programs and services of Abilities First\, a 501(c)(3) nonprofit organization serving over 1\,400 children and adults with intellectual and developmental disabilities throughout the Hudson Valley. A portion of the event fee is tax-deductible to the extent allowed by law.
LOCATION:Shadows on the Hudson\, 176 Rinaldi Blvd\, Poughkeepsie\, NY 12601
UID:e.2770.10476245
SEQUENCE:3
DTSTAMP:20260426T033229Z
URL:https://business.dcrcoc.org/events/details/abilities-first-2017-signature-event-10476245
END:VEVENT

END:VCALENDAR
