BEGIN:VCALENDAR
VERSION:2.0
PRODID:-//ChamberMaster//Event Calendar 2.0//EN
METHOD:PUBLISH
X-PUBLISHED-TTL:P3D
REFRESH-INTERVAL:P3D
CALSCALE:GREGORIAN
BEGIN:VEVENT
DTSTART:20180308T220000Z
DTEND:20180309T003000Z
X-MICROSOFT-CDO-ALLDAYEVENT:FALSE
SUMMARY:Ability Beyond's Ribbon Cutting & Open House
DESCRIPTION:Tours of our Norwalk based day and employment programs\n\nAgency updates\n\nRefreshments
X-ALT-DESC;FMTTYPE=text/html:Tours of our Norwalk based day and employment programs<br />\nAgency updates<br />\nRefreshments
LOCATION:61 East Avenue Norwalk\, CT 06851
UID:e.2770.10476825
SEQUENCE:3
DTSTAMP:20260425T210440Z
URL:https://business.dcrcoc.org/events/details/ability-beyond-s-ribbon-cutting-open-house-10476825
END:VEVENT

END:VCALENDAR
