BEGIN:VCALENDAR
VERSION:2.0
PRODID:-//ChamberMaster//Event Calendar 2.0//EN
METHOD:PUBLISH
X-PUBLISHED-TTL:P3D
REFRESH-INTERVAL:P3D
CALSCALE:GREGORIAN
BEGIN:VEVENT
DTSTART:20180228T230000Z
DTEND:20180301T003000Z
X-MICROSOFT-CDO-ALLDAYEVENT:FALSE
SUMMARY:Achieve Your Dream in 2018! Become MWBE Certified Now!
DESCRIPTION:Topics Include:\n\n\n	What is MWBE Certification?\n	Should I get Certified?\n	What are the Benefits?\n	Am I Eligible to Apply?\n	What is the Certification Process?\n	How Do I Get Expedited?
X-ALT-DESC;FMTTYPE=text/html:<h3>Topics Include:</h3>\n\n<ul>\n	<li>What is MWBE Certification?</li>\n	<li>Should I get Certified?</li>\n	<li>What are the Benefits?</li>\n	<li>Am I Eligible to Apply?</li>\n	<li>What is the Certification Process?</li>\n	<li>How Do I Get Expedited?</li>\n</ul>\n
LOCATION:Think Dutchess Alliance for Business 3 Neptune Road Suite A21 Poughkeepsie\, NY 12601
UID:e.2770.10476556
SEQUENCE:3
DTSTAMP:20260425T232400Z
URL:https://business.dcrcoc.org/events/details/achieve-your-dream-in-2018-become-mwbe-certified-now-10476556
END:VEVENT

END:VCALENDAR
