BEGIN:VCALENDAR
VERSION:2.0
PRODID:-//ChamberMaster//Event Calendar 2.0//EN
METHOD:PUBLISH
X-PUBLISHED-TTL:P3D
REFRESH-INTERVAL:P3D
CALSCALE:GREGORIAN
BEGIN:VEVENT
DTSTART:20180313T220000Z
DTEND:20180314T000000Z
X-MICROSOFT-CDO-ALLDAYEVENT:FALSE
SUMMARY:Adoptive & Foster Family Coalition of New York "Circle of Trauma" Free Workshop
DESCRIPTION:In this free workshop\, we'll tackle the challenge of raising adoptive children and children in foster care with adverse childhood experiences and difficult past histories.  Designed for those parenting children who have relationship difficulties\, especially children who have experienced attachment problems\, trauma\, loss and/or seperation early in life.\n\n\n\nChildcare and Light refreshments provided.\n\n\n\nCertificates verifying training hours available for foster parents.-\n\n\n\nTo register: 845-679-9900\n\nor www.affcny.org
X-ALT-DESC;FMTTYPE=text/html:In this free workshop\, we&#39\;ll tackle the challenge of raising adoptive children and children in foster care with adverse childhood experiences and difficult past histories.&nbsp\; Designed for those parenting children who have relationship difficulties\, especially children who have experienced attachment problems\, trauma\, loss and/or seperation early in life.<br />\n<br />\nChildcare and Light refreshments provided.<br />\n<br />\nCertificates verifying training hours available for foster parents.-<br />\n<br />\nTo register: 845-679-9900<br />\nor www.affcny.org
LOCATION:Old Dutch Church 272 Wall Street\, Kingston
UID:e.2770.10476819
SEQUENCE:3
DTSTAMP:20260425T210652Z
URL:https://business.dcrcoc.org/events/details/adoptive-foster-family-coalition-of-new-york-circle-of-trauma-free-workshop-10476819
END:VEVENT

END:VCALENDAR
