BEGIN:VCALENDAR
VERSION:2.0
PRODID:-//ChamberMaster//Event Calendar 2.0//EN
METHOD:PUBLISH
X-PUBLISHED-TTL:P3D
REFRESH-INTERVAL:P3D
CALSCALE:GREGORIAN
BEGIN:VEVENT
DTSTART:20181027T233000Z
DTEND:20181028T020000Z
X-MICROSOFT-CDO-ALLDAYEVENT:FALSE
SUMMARY:Alzheimer’s Association “Drinking for a Cause!” at Marta's Vineyard
DESCRIPTION:DRINK FOR ALZHEIMER'S\n\nSaturday\, Oct. 27th from 7:30pm - 10:00pm\n\nHelp your local Alzheimer's Association by "Drinking for a Cause!"\n\n\n\n15% of all proceeds PLUS 10% of any purchases are donated to the local \n\nHudson Valley Alzheimer's Chapter\n\n\n\nRegistration Required \n\n$45/person. Our Tastings regularly sell out! Seats are limited for this first-time fundraiser\, so reserve early. Call:\n\n845-218-9672\n\n\n\nHave you been dramatically touched by the disease of Alzheimer's?\n\n\n\nAn informative one hour "seminar" taught by *Marta on six different premium wines from the following regions:\n\n\n\nCalifornia   France   New Zealand\n\n\n\nFollowed by a "walk around" tasting\, where each of the wines will be paired with specific food.\n\n\n\n  Listen to informative seminar\n\n  Drink Wine\n\n  Eat tasty small bites\n\n  Listen to pleasant music\n\n  Mingle with peers and meet new people\n\n  Contribute to rid the world of a terrible disease\n\n\n\nWhat could be a more perfect night? \n\n\n\n*Marta is the owner of Marta's Vineyard\, but was formerly the Wine & Spirits Director of a Liquor store in Greenwich\, CT.\, where she taught regular tasting classes to consumers. She also holds the Diplomate of Wine and Spirits from the internationally accredited wine school\, Wine and Spirit Education Trust based in London\, as well as the Certified Specialist of Wine from Society of Wine Educators.\n\n\n\nMarta's Vineyard\n\n845-218-9672\n\nCHEERS!\n\nhttp://www.martasvine.com  \n\n\n\nCancellation Policy Applies: When you reserve a seat with us\, we save the spot especially for you\, and turn others away. If you cancel your reservation within three days of the event\, we can refund your reservation in full. Any no- shows will be charged in full.
X-ALT-DESC;FMTTYPE=text/html:<div style="text-align:center"><strong>DRINK FOR ALZHEIMER&#39\;S<br />\nSaturday\, Oct. 27th from&nbsp\;7:30pm - 10:00pm</strong><br />\nHelp your local Alzheimer&rsquo\;s Association by &ldquo\;Drinking for a Cause!&rdquo\;<br />\n<br />\n15% of all proceeds&nbsp\;PLUS&nbsp\;10% of any purchases are donated to the local&nbsp\;<br />\nHudson Valley Alzheimer&#39\;s Chapter<br />\n<br />\nRegistration Required&nbsp\;<br />\n$45/person. Our Tastings regularly sell out! Seats are limited for this first-time fundraiser\, so reserve early. Call:<br />\n<a href="tel:845-218-9672">845-218-9672</a><br />\n<br />\nHave you been dramatically touched by the disease of Alzheimer&rsquo\;s?<br />\n<br />\nAn informative&nbsp\;one hour&nbsp\;&ldquo\;seminar&rdquo\; taught by *Marta on&nbsp\;six different&nbsp\;premium&nbsp\;wines&nbsp\;from the following regions:<br />\n<br />\nCalifornia&nbsp\;&bull\; France &bull\; New Zealand<br />\n<br />\nFollowed by a &ldquo\;walk around&rdquo\; tasting\, where each of the wines will be&nbsp\;paired with specific food.<br />\n<br />\n&bull\;&nbsp\;Listen to informative seminar<br />\n&bull\;&nbsp\;Drink Wine<br />\n&bull\;&nbsp\;Eat tasty small bites<br />\n&bull\;&nbsp\;Listen to pleasant music<br />\n&bull\;&nbsp\;Mingle with peers and meet new people<br />\n&bull\;&nbsp\;Contribute to rid the world of a terrible disease<br />\n<br />\nWhat could be a more perfect night?&nbsp\;<br />\n<br />\n*Marta is the owner of Marta&rsquo\;s Vineyard\, but was formerly the Wine &amp\; Spirits Director of a Liquor store in Greenwich\, CT.\, where she taught regular tasting classes to consumers. She also holds the Diplomate of Wine and Spirits from the internationally accredited wine school\, Wine and Spirit Education Trust based in London\, as well as the Certified Specialist of Wine from Society of Wine Educators.<br />\n<br />\nMarta&#39\;s Vineyard<br />\n<a href="tel:845-218-9672">845-218-9672</a><br />\nCHEERS!<br />\nhttp://www.martasvine.com&nbsp\;&nbsp\;<br />\n<br />\nCancellation Policy Applies:&nbsp\;When you reserve a seat with us\, we save the spot especially for you\, and turn others away. If you cancel your reservation&nbsp\;within three days&nbsp\;of the event\, we can refund your reservation in full. Any no- shows will be charged in full.<br />\n<br />\n&nbsp\;</div>\n
LOCATION:Marta's Vineyard South Road Square 1955 South Rd\, Poughkeepsie\, NY 12601\, USA
UID:e.2770.10479793
SEQUENCE:3
DTSTAMP:20260425T131541Z
URL:https://business.dcrcoc.org/events/details/alzheimer-s-association-drinking-for-a-cause-at-marta-s-vineyard-10479793
END:VEVENT

END:VCALENDAR
