BEGIN:VCALENDAR
VERSION:2.0
PRODID:-//ChamberMaster//Event Calendar 2.0//EN
METHOD:PUBLISH
X-PUBLISHED-TTL:P3D
REFRESH-INTERVAL:P3D
CALSCALE:GREGORIAN
BEGIN:VEVENT
DTSTART:20190314T190000Z
DTEND:20190314T210000Z
X-MICROSOFT-CDO-ALLDAYEVENT:FALSE
SUMMARY:Alzheimer's Community Forum: Woodstock
DESCRIPTION:Learn about Alzheimer's\, dementia and memory loss. Bring a friend who has been affected by the disease. Share your thoughts about how we can help people in your community. Light refreshments will be provided. Registration is requested. Call 800.272.3900 or email Meg Boyce at mboyce@alz.org.
X-ALT-DESC;FMTTYPE=text/html:Learn about Alzheimer&rsquo\;s\, dementia and memory loss. Bring a friend who has been affected by the disease. Share your thoughts about how we can help people in your community. Light refreshments will be provided. Registration is requested. Call 800.272.3900 or email Meg Boyce at mboyce@alz.org.
LOCATION:Christ Lutheran Church of Woodstock 26 Mill Hill Road\, Woodstock\, NY 12498
UID:e.2770.10480516
SEQUENCE:3
DTSTAMP:20260423T081923Z
URL:https://business.dcrcoc.org/events/details/alzheimer-s-community-forum-woodstock-10480516
END:VEVENT

END:VCALENDAR
