BEGIN:VCALENDAR
VERSION:2.0
PRODID:-//ChamberMaster//Event Calendar 2.0//EN
METHOD:PUBLISH
X-PUBLISHED-TTL:P3D
REFRESH-INTERVAL:P3D
CALSCALE:GREGORIAN
BEGIN:VEVENT
DTSTART:20181019T230000Z
DTEND:20181020T010000Z
X-MICROSOFT-CDO-ALLDAYEVENT:FALSE
SUMMARY:American Cancer Society - Paint & Sip Fundraiser
DESCRIPTION:Art Party is teaming up with the American Cancer Society and Raymour & Flanigan to support Breast Cancer Awareness and will donate $5 to the American Cancer Society for every registered participant. Join us for a Painting Fundraiser at the Raymour & Flanigan Outlet Center on Friday October 19th at 7pm.This fall themed painting will make a great addition to your Holiday Decorating. I know I don't have enough Fall Decore. Come and support a worthy cause. Tickets are $30. and must be purchased in advance. Raymour & Flanigan is graciously providing their showroom\, wine\, a light snack\, and a donation to the American Cancer Society.
X-ALT-DESC;FMTTYPE=text/html:Art Party is teaming up with the American Cancer Society and Raymour &amp\; Flanigan to support Breast Cancer Awareness and will donate $5 to the American Cancer Society for every registered participant. Join us for a Painting Fundraiser at the Raymour &amp\; Flanigan Outlet Center on Friday October 19th at 7pm.This fall themed painting will make a great addition to your Holiday Decorating. I know I don&#39\;t have enough Fall Decore. Come and support a worthy cause. Tickets are $30. and must be purchased in advance. Raymour &amp\; Flanigan is graciously providing their showroom\, wine\, a light snack\, and a donation to the American Cancer Society.
LOCATION:Raymour & Flanigan Outlet Center 757 Vassar Rd Poughkeepsie\, NY
UID:e.2770.10479746
SEQUENCE:3
DTSTAMP:20260425T115512Z
URL:https://business.dcrcoc.org/events/details/american-cancer-society-paint-sip-fundraiser-10-19-2018-10479746
END:VEVENT

END:VCALENDAR
