BEGIN:VCALENDAR
VERSION:2.0
PRODID:-//ChamberMaster//Event Calendar 2.0//EN
METHOD:PUBLISH
X-PUBLISHED-TTL:P3D
REFRESH-INTERVAL:P3D
CALSCALE:GREGORIAN
BEGIN:VEVENT
DTSTART:20181011T230000Z
DTEND:20181012T010000Z
X-MICROSOFT-CDO-ALLDAYEVENT:FALSE
SUMMARY:American Cancer Society - Paint & Sip Fundraiser
DESCRIPTION:Join us for a Painting Fundraiser at Raymour & Flanigan on Thursday October 11th at 7pm. This particular painting YOU choose the word or words you paint on your canvas. Hope comes to mind for this event. Pink paint will also be available if you would like to add a touch of pink. We will be writing wishes/prayers on the blank canvas with chalk before painting. Just a personal touch. Tickets are $30. and must be purchased in advance. $5 from each ticket will be donated to the American Cancer Society. Raymour & Flanigan is graciously providing their showroom\, wine\, a light snack\, and also a donation to the American Cancer Society.
X-ALT-DESC;FMTTYPE=text/html:Join us for a Painting Fundraiser at Raymour &amp\; Flanigan on Thursday October 11th at 7pm. This particular painting YOU choose the word or words you paint on your canvas. Hope comes to mind for this event. Pink paint will also be available if you would like to add a touch of pink. We will be writing wishes/prayers on the blank canvas with chalk before painting. Just a personal touch. Tickets are $30. and must be purchased in advance. $5 from each ticket will be donated to the American Cancer Society. Raymour &amp\; Flanigan is graciously providing their showroom\, wine\, a light snack\, and also a donation to the American Cancer Society.
LOCATION:Raymour & Flanigan 756 Vassar Rd Poughkeepsie\, NY
UID:e.2770.10479745
SEQUENCE:3
DTSTAMP:20260425T115200Z
URL:https://business.dcrcoc.org/events/details/american-cancer-society-paint-sip-fundraiser-10479745
END:VEVENT

END:VCALENDAR
