BEGIN:VCALENDAR
VERSION:2.0
PRODID:-//ChamberMaster//Event Calendar 2.0//EN
METHOD:PUBLISH
X-PUBLISHED-TTL:P3D
REFRESH-INTERVAL:P3D
CALSCALE:GREGORIAN
BEGIN:VEVENT
DTSTART:20190206T200000Z
DTEND:20190206T220000Z
X-MICROSOFT-CDO-ALLDAYEVENT:FALSE
SUMMARY:American Heart Association - Dutchess-Ulster Heart Walk Kick Off
DESCRIPTION:Culinary Institute of America | 196 Campus Drive Hyde Park\, NY 12538 located in the hallway in front of Farquharson Hall 2019 Heart Walk Chair\, Tim Tarpey & the Executive Leadership Team invite you to stop by the Culinary Institute of America to: Pick up your Heart Walk materials  Sign your team up online  Get to know this year's 2019 honorees   Liam and Gabrielle  Network with other team coaches RSVP TO DUHeartWalk@heart.org by February 4th or schedule a time to get your materials. Dutchess-Ulster Heart Walk | April 13\, 2019 | www.dutchessulsterheartwalk.org
X-ALT-DESC;FMTTYPE=text/html:Culinary Institute of America | 196 Campus Drive Hyde Park\, NY 12538 located in the hallway in front of Farquharson Hall 2019 Heart Walk Chair\, Tim Tarpey &amp\; the Executive Leadership Team invite you to stop by the Culinary Institute of America to:&bull\;Pick up your Heart Walk materials &bull\;Sign your team up online &bull\;Get to know this year&rsquo\;s 2019 honorees &ndash\; Liam and Gabrielle &bull\;Network with other team coaches RSVP TO DUHeartWalk@heart.org by February 4th or schedule a time to get your materials. Dutchess-Ulster Heart Walk | April 13\, 2019 | www.dutchessulsterheartwalk.org
LOCATION:Culinary Institute of America | 196 Campus Drive Hyde Park\, NY 12538 located in the hallway in front of Farquharson Hall
UID:e.2770.10480216
SEQUENCE:3
DTSTAMP:20260423T112524Z
URL:https://business.dcrcoc.org/events/details/american-heart-association-dutchess-ulster-heart-walk-kick-off-10480216
END:VEVENT

END:VCALENDAR
